BEGIN:VCALENDAR
VERSION:2.0
PRODID:-//Radio Aguilar FM - ECPv6.15.20//NONSGML v1.0//EN
CALSCALE:GREGORIAN
METHOD:PUBLISH
X-WR-CALNAME:Radio Aguilar FM
X-ORIGINAL-URL:https://radioaguilar.com
X-WR-CALDESC:Eventos para Radio Aguilar FM
REFRESH-INTERVAL;VALUE=DURATION:PT1H
X-Robots-Tag:noindex
X-PUBLISHED-TTL:PT1H
BEGIN:VTIMEZONE
TZID:Europe/Madrid
BEGIN:DAYLIGHT
TZOFFSETFROM:+0100
TZOFFSETTO:+0200
TZNAME:CEST
DTSTART:20250330T010000
END:DAYLIGHT
BEGIN:STANDARD
TZOFFSETFROM:+0200
TZOFFSETTO:+0100
TZNAME:CET
DTSTART:20251026T010000
END:STANDARD
BEGIN:DAYLIGHT
TZOFFSETFROM:+0100
TZOFFSETTO:+0200
TZNAME:CEST
DTSTART:20260329T010000
END:DAYLIGHT
BEGIN:STANDARD
TZOFFSETFROM:+0200
TZOFFSETTO:+0100
TZNAME:CET
DTSTART:20261025T010000
END:STANDARD
BEGIN:DAYLIGHT
TZOFFSETFROM:+0100
TZOFFSETTO:+0200
TZNAME:CEST
DTSTART:20270328T010000
END:DAYLIGHT
BEGIN:STANDARD
TZOFFSETFROM:+0200
TZOFFSETTO:+0100
TZNAME:CET
DTSTART:20271031T010000
END:STANDARD
END:VTIMEZONE
BEGIN:VEVENT
DTSTART;TZID=Europe/Madrid:20260425T000000
DTEND;TZID=Europe/Madrid:20260425T235959
DTSTAMP:20260425T123625
CREATED:20260209T125911Z
LAST-MODIFIED:20260209T125912Z
UID:120639-1777075200-1777161599@radioaguilar.com
SUMMARY:Taller
DESCRIPTION:La asociación fotográfica Foto Palencia Norte organiza un taller teórico – práctico sobre revelado digital en blanco y negro que será impartido por el fotógrafo cántabro Yuri Portóles.El curso tendrá lugar el sábado día 25 de abril\, de 10 a 14 y de 16 a 20 horas y se llevará a cabo en las instalaciones del Hotel Valentín de Aguilar de Campoo a quien la Asociación FPN agradece su colaboración.Los contenidos del taller son los siguientes:Teoría de Color: círculos cromáticos y síntesis de color. Colores luz y colores pigmento. Tono\, saturación y luminosidad. Colores primarios\, secundarios y terciarios\, Contraste\, Revelado en Blanco y Negro paso a paso en Adobe Lightroom Classic. Se recomienda asistir con la última versión de Adobe Lightroom Classic instalada en el ordenador portátil.Los interesados en inscribirse (las plazas son limitadas) o recibir más información pueden hacerlo a través del correo de la asociación fotopalencianorte@gmail.com. El precio es de 65€ para no asociados y de 50€ pra integrantes de la Asociación Foto Palencia Norte.
URL:https://radioaguilar.com/evento/taller-7/
CATEGORIES:Cultura
ATTACH;FMTTYPE=image/jpeg:https://radioaguilar.com/contenido/FPN.jpeg
END:VEVENT
BEGIN:VEVENT
DTSTART;TZID=Europe/Madrid:20260425T000000
DTEND;TZID=Europe/Madrid:20260425T235959
DTSTAMP:20260425T123625
CREATED:20260324T100350Z
LAST-MODIFIED:20260414T115017Z
UID:122141-1777075200-1777161599@radioaguilar.com
SUMMARY:Alerta Primavera
DESCRIPTION:Fecha: sábado\, 25 de abril \n\n\n\nLugar: Carpa junto a las Piscinas de Verano \n\n\n\nLocalidad: Aguilar de Campoo \n\n\n\nEntrada gratuita
URL:https://radioaguilar.com/evento/alerta-primavera-2/
CATEGORIES:Cultura
ATTACH;FMTTYPE=image/jpeg:https://radioaguilar.com/contenido/ALERTA-PRIMAVERA-1.jpeg
END:VEVENT
BEGIN:VEVENT
DTSTART;TZID=Europe/Madrid:20260425T000000
DTEND;TZID=Europe/Madrid:20260425T235959
DTSTAMP:20260425T123625
CREATED:20260416T114601Z
LAST-MODIFIED:20260416T114602Z
UID:122658-1777075200-1777161599@radioaguilar.com
SUMMARY:`Música Cercana´
DESCRIPTION:Concierto y taller musical. \n\n\n\nFecha: viernes 24 y sábado 25 de abril \n\n\n\nLocalidad: Aguilar de Campoo
URL:https://radioaguilar.com/evento/musica-cercana/
CATEGORIES:Cultura
ATTACH;FMTTYPE=image/jpeg:https://radioaguilar.com/contenido/Musica-cercana.jpeg
END:VEVENT
END:VCALENDAR