BEGIN:VCALENDAR
VERSION:2.0
PRODID:-//Radio Aguilar FM - ECPv6.15.20//NONSGML v1.0//EN
CALSCALE:GREGORIAN
METHOD:PUBLISH
X-ORIGINAL-URL:https://radioaguilar.com
X-WR-CALDESC:Eventos para Radio Aguilar FM
REFRESH-INTERVAL;VALUE=DURATION:PT1H
X-Robots-Tag:noindex
X-PUBLISHED-TTL:PT1H
BEGIN:VTIMEZONE
TZID:Europe/Madrid
BEGIN:DAYLIGHT
TZOFFSETFROM:+0100
TZOFFSETTO:+0200
TZNAME:CEST
DTSTART:20240331T010000
END:DAYLIGHT
BEGIN:STANDARD
TZOFFSETFROM:+0200
TZOFFSETTO:+0100
TZNAME:CET
DTSTART:20241027T010000
END:STANDARD
BEGIN:DAYLIGHT
TZOFFSETFROM:+0100
TZOFFSETTO:+0200
TZNAME:CEST
DTSTART:20250330T010000
END:DAYLIGHT
BEGIN:STANDARD
TZOFFSETFROM:+0200
TZOFFSETTO:+0100
TZNAME:CET
DTSTART:20251026T010000
END:STANDARD
BEGIN:DAYLIGHT
TZOFFSETFROM:+0100
TZOFFSETTO:+0200
TZNAME:CEST
DTSTART:20260329T010000
END:DAYLIGHT
BEGIN:STANDARD
TZOFFSETFROM:+0200
TZOFFSETTO:+0100
TZNAME:CET
DTSTART:20261025T010000
END:STANDARD
END:VTIMEZONE
BEGIN:VEVENT
DTSTART;TZID=Europe/Madrid:20250401T000000
DTEND;TZID=Europe/Madrid:20250401T235959
DTSTAMP:20260426T052748
CREATED:20250225T120049Z
LAST-MODIFIED:20250225T120050Z
UID:109611-1743465600-1743551999@radioaguilar.com
SUMMARY:Concursos Día del Libro 2025 en Aguilar de Campoo
DESCRIPTION:La Biblioteca Municipal Bernardo El Carpio de Aguilar de Campoo publica las bases y los carteles de los concursos que se celebrarán con motivo del Día del Libro. \n\n\n\nFecha límite para participar: 1 de abril a las 20.30 h. \n\n\n\nA continuación se pueden ver las diferentes categorías y concursos: \n\n\n\nConcurso cuentosDescarga\n\n\n\nConcurso instagramDescarga\n\n\n\nXI CONCURSO DE MICRORRELATOSDescarga\n\n\n\nXX Concurso MarcapáginasDescarga
URL:https://radioaguilar.com/evento/concursos-dia-del-libro-2025-en-aguilar-de-campoo/
CATEGORIES:Cultura
ATTACH;FMTTYPE=image/jpeg:https://radioaguilar.com/contenido/Biblioteca-Aguilar-2.jpg
END:VEVENT
BEGIN:VEVENT
DTSTART;TZID=Europe/Madrid:20250404T203000
DTEND;TZID=Europe/Madrid:20250404T223000
DTSTAMP:20260426T052748
CREATED:20250312T102839Z
LAST-MODIFIED:20250312T102841Z
UID:110181-1743798600-1743805800@radioaguilar.com
SUMMARY:Recordando los 80 El Musical
DESCRIPTION:Fecha: viernes\, 4 de abril \n\n\n\nHora: 20.30 h. \n\n\n\nLugar: Cine Amor de Aguilar de Campoo
URL:https://radioaguilar.com/evento/recordando-los-80-el-musical/
CATEGORIES:Cultura
ATTACH;FMTTYPE=image/jpeg:https://radioaguilar.com/contenido/Musical.jpg
END:VEVENT
BEGIN:VEVENT
DTSTART;TZID=Europe/Madrid:20250405T000000
DTEND;TZID=Europe/Madrid:20250405T235959
DTSTAMP:20260426T052748
CREATED:20250331T114949Z
LAST-MODIFIED:20250403T215550Z
UID:110914-1743811200-1743897599@radioaguilar.com
SUMMARY:Gala VII Premio-Arco Patrimonio
DESCRIPTION:Gala VII Premio-Arco Patrimonio. \n\n\n\nFecha: sábado 5 de abril \n\n\n\nHora: 19.30 h \n\n\n\nLugar: Salón de actos – Fundación Sta. Mª. La Real \n\n\n\nLocalidad: Aguilar de Campoo
URL:https://radioaguilar.com/evento/gala-vii-premio-arco-patrimonio/
CATEGORIES:Cultura
ATTACH;FMTTYPE=image/jpeg:https://radioaguilar.com/contenido/Gala-2.jpeg
END:VEVENT
BEGIN:VEVENT
DTSTART;TZID=Europe/Madrid:20250405T080000
DTEND;TZID=Europe/Madrid:20250405T170000
DTSTAMP:20260426T052748
CREATED:20250331T115453Z
LAST-MODIFIED:20250331T115454Z
UID:110918-1743840000-1743872400@radioaguilar.com
SUMMARY:Curso
DESCRIPTION:Curso de dulzaina y caja impartido por Juan Cruz Silva. \n\n\n\nLugar: CEPA Pisuerga \n\n\n\nLocalidad: Aguilar de Campoo
URL:https://radioaguilar.com/evento/curso-2/
CATEGORIES:Cultura
ATTACH;FMTTYPE=image/jpeg:https://radioaguilar.com/contenido/Curso-1.jpeg
END:VEVENT
BEGIN:VEVENT
DTSTART;TZID=Europe/Madrid:20250425T190000
DTEND;TZID=Europe/Madrid:20250425T210000
DTSTAMP:20260426T052748
CREATED:20250410T114835Z
LAST-MODIFIED:20250410T114928Z
UID:111376-1745607600-1745614800@radioaguilar.com
SUMMARY:Presentación libro
DESCRIPTION:Libro: ‘Misterios y leyendas de la provincia de Palencia’ de Fran Renedo \n\n\n\nFecha: viernes\, 25 de abril \n\n\n\nHora: 19.00 h. \n\n\n\nLugar: Biblioteca Aguilar
URL:https://radioaguilar.com/evento/presentacion-libro-2/
CATEGORIES:Cultura
ATTACH;FMTTYPE=image/jpeg:https://radioaguilar.com/contenido/Presentacion-libro-6.jpg
END:VEVENT
END:VCALENDAR