BEGIN:VCALENDAR
VERSION:2.0
PRODID:-//Radio Aguilar FM - ECPv6.15.20//NONSGML v1.0//EN
CALSCALE:GREGORIAN
METHOD:PUBLISH
X-WR-CALNAME:Radio Aguilar FM
X-ORIGINAL-URL:https://radioaguilar.com
X-WR-CALDESC:Eventos para Radio Aguilar FM
REFRESH-INTERVAL;VALUE=DURATION:PT1H
X-Robots-Tag:noindex
X-PUBLISHED-TTL:PT1H
BEGIN:VTIMEZONE
TZID:Europe/Madrid
BEGIN:DAYLIGHT
TZOFFSETFROM:+0100
TZOFFSETTO:+0200
TZNAME:CEST
DTSTART:20240331T010000
END:DAYLIGHT
BEGIN:STANDARD
TZOFFSETFROM:+0200
TZOFFSETTO:+0100
TZNAME:CET
DTSTART:20241027T010000
END:STANDARD
BEGIN:DAYLIGHT
TZOFFSETFROM:+0100
TZOFFSETTO:+0200
TZNAME:CEST
DTSTART:20250330T010000
END:DAYLIGHT
BEGIN:STANDARD
TZOFFSETFROM:+0200
TZOFFSETTO:+0100
TZNAME:CET
DTSTART:20251026T010000
END:STANDARD
BEGIN:DAYLIGHT
TZOFFSETFROM:+0100
TZOFFSETTO:+0200
TZNAME:CEST
DTSTART:20260329T010000
END:DAYLIGHT
BEGIN:STANDARD
TZOFFSETFROM:+0200
TZOFFSETTO:+0100
TZNAME:CET
DTSTART:20261025T010000
END:STANDARD
END:VTIMEZONE
BEGIN:VEVENT
DTSTART;TZID=Europe/Madrid:20250502T000000
DTEND;TZID=Europe/Madrid:20250506T235959
DTSTAMP:20260426T034753
CREATED:20250421T105603Z
LAST-MODIFIED:20250502T102237Z
UID:111471-1746144000-1746575999@radioaguilar.com
SUMMARY:Día Internacional del Libro en la Biblioteca de Aguilar
DESCRIPTION:El Ayuntamiento de Aguilar de Campoo a través de la Biblioteca Municipal de Aguilar de Campoo celebra el Día Internacional del Libro con diversas actividades desde el martes\, 22 de abril y hasta el martes\, 6 de mayo. Toda la programación se puede ver en archivos adjuntos.
URL:https://radioaguilar.com/evento/dia-internacional-del-libro-en-la-biblioteca-de-aguilar/
CATEGORIES:Cultura
ATTACH;FMTTYPE=image/jpeg:https://radioaguilar.com/contenido/Dia-del-Libro-Aguilar.jpeg
END:VEVENT
BEGIN:VEVENT
DTSTART;TZID=Europe/Madrid:20250502T200000
DTEND;TZID=Europe/Madrid:20250502T220000
DTSTAMP:20260426T034753
CREATED:20250430T095341Z
LAST-MODIFIED:20250430T095343Z
UID:111646-1746216000-1746223200@radioaguilar.com
SUMMARY:Festival de Teatro Aficionado Aguilar de Campoo
DESCRIPTION:Fecha: del 2 al 4 de mayo \n\n\n\nHora: 20.00 h. \n\n\n\nLugar: Cine Amor
URL:https://radioaguilar.com/evento/festival-de-teatro-aficionado-aguilar-de-campoo/
CATEGORIES:Cultura
ATTACH;FMTTYPE=image/jpeg:https://radioaguilar.com/contenido/Festival-de-Teatro-Aficionado.jpg
END:VEVENT
BEGIN:VEVENT
DTSTART;TZID=Europe/Madrid:20250503T000000
DTEND;TZID=Europe/Madrid:20250503T235959
DTSTAMP:20260426T034753
CREATED:20250317T122847Z
LAST-MODIFIED:20250430T110742Z
UID:110362-1746230400-1746316799@radioaguilar.com
SUMMARY:Alerta Primavera
DESCRIPTION:Jornada musical `Alerta Primavera´ \n\n\n\nFecha: Sábado 3 de mayo \n\n\n\nHora: De 12.00 h. a 22.00 h ininterrumpidamente \n\n\n\nLugar: Parque Isla de San Roque \n\n\n\nLocalidad: Aguilar de Campoo \n\n\n\nEntrada: Gratuita
URL:https://radioaguilar.com/evento/alerta-primavera/
CATEGORIES:Cultura
ATTACH;FMTTYPE=image/webp:https://radioaguilar.com/contenido/Alerta-Primavera.webp
END:VEVENT
BEGIN:VEVENT
DTSTART;TZID=Europe/Madrid:20250506T000000
DTEND;TZID=Europe/Madrid:20250506T235959
DTSTAMP:20260426T034753
CREATED:20250408T120525Z
LAST-MODIFIED:20250408T120526Z
UID:111289-1746489600-1746575999@radioaguilar.com
SUMMARY:Taller
DESCRIPTION:Taller de escritura creativa para conocer las técnicas de expresión literaria y aprender a contar historias originales e innovadoras utilizando tu imaginación y tu creatividad. Impartido por Ruth Gutiérrez. \n\n\n\nFecha: Todos los martes de mayo de 18 a 20 horas \n\n\n\nLugar: Biblioteca municipal \n\n\n\nLocalidad: Aguilar de Campoo \n\n\n\nPrecio: Gratuito hasta completar las plazas \n\n\n\nEdad: A partir de 16 años.  \n\n\n\nInscripciones: 979123721\, biblioteca@aguilardecampoo.es o en la propia biblioteca.
URL:https://radioaguilar.com/evento/taller-3/
CATEGORIES:Cultura
ATTACH;FMTTYPE=image/jpeg:https://radioaguilar.com/contenido/Taller-de-esritura.jpg
END:VEVENT
BEGIN:VEVENT
DTSTART;TZID=Europe/Madrid:20250516T000000
DTEND;TZID=Europe/Madrid:20250614T235959
DTSTAMP:20260426T034753
CREATED:20250516T075517Z
LAST-MODIFIED:20250516T095628Z
UID:112170-1747353600-1749945599@radioaguilar.com
SUMMARY:¿Te animas a participar en 'El Rincón de los Libros'?
DESCRIPTION:Comenta con nosotros el libro que escojas en el programa ‘El Rincón de los Libros’ que emitimos los viernes cada quince días en Radio Aguilar con la colaboración de la Biblioteca de Aguilar.
URL:https://radioaguilar.com/evento/te-animas-a-participar-en-el-rincon-de-los-libros/
CATEGORIES:Cultura
ATTACH;FMTTYPE=image/jpeg:https://radioaguilar.com/contenido/Rincon-libros.jpg
END:VEVENT
BEGIN:VEVENT
DTSTART;TZID=Europe/Madrid:20250517T000000
DTEND;TZID=Europe/Madrid:20250517T235959
DTSTAMP:20260426T034753
CREATED:20250502T122342Z
LAST-MODIFIED:20250523T111548Z
UID:111749-1747440000-1747526399@radioaguilar.com
SUMMARY:III Festival de Cine Rural  y Montaña
DESCRIPTION:III Festival de Cine Rural  y Montaña \n\n\n\nFecha: del 9 al 16 de mayo \n\n\n\nLocalidad: Cervera de Pisuerga \n\n\n\nPuedes consultar toda la programación en el siguiente archivo: \n\n\n\nPrograma III fecice 2025Descarga
URL:https://radioaguilar.com/evento/iii-festival-de-cine-rural-y-montana/
CATEGORIES:Cultura
ATTACH;FMTTYPE=image/jpeg:https://radioaguilar.com/contenido/festival-cine.jpg
END:VEVENT
BEGIN:VEVENT
DTSTART;TZID=Europe/Madrid:20250518T000000
DTEND;TZID=Europe/Madrid:20250518T235959
DTSTAMP:20260426T034753
CREATED:20250513T115924Z
LAST-MODIFIED:20250513T115925Z
UID:112067-1747526400-1747612799@radioaguilar.com
SUMMARY:Actuación
DESCRIPTION:Actuación de David «El Pipa» \n\n\n\nFecha: Domingo 18 de mayo \n\n\n\nLugar: Museo Ursi \n\n\n\nLocalidad: Aguilar de Campoo \n\n\n\nEntrada libre / Para todos los públicos
URL:https://radioaguilar.com/evento/actuacion/
CATEGORIES:Cultura
ATTACH;FMTTYPE=image/jpeg:https://radioaguilar.com/contenido/MUSEO-URSI.jpeg
END:VEVENT
BEGIN:VEVENT
DTSTART;TZID=Europe/Madrid:20250525T000000
DTEND;TZID=Europe/Madrid:20250525T235959
DTSTAMP:20260426T034753
CREATED:20250321T123920Z
LAST-MODIFIED:20250321T124115Z
UID:110595-1748131200-1748217599@radioaguilar.com
SUMMARY:Exposición
DESCRIPTION:Exposición de pintura Naturaleza Imposible\, con obras de Concha Gay y María Jesús Prieto. \n\n\n\nFecha: hasta el 25 de mayo \n\n\n\nLugar: espacio de Arte `Al Socayo´ \n\n\n\nLocalidad: Aguilar de Campoo
URL:https://radioaguilar.com/evento/exposicion-16/
CATEGORIES:Cultura
ATTACH;FMTTYPE=image/jpeg:https://radioaguilar.com/contenido/AL-SOCAYO.jpeg
END:VEVENT
BEGIN:VEVENT
DTSTART;TZID=Europe/Madrid:20250531T000000
DTEND;TZID=Europe/Madrid:20250531T235959
DTSTAMP:20260426T034753
CREATED:20250508T092041Z
LAST-MODIFIED:20250508T092042Z
UID:111904-1748649600-1748735999@radioaguilar.com
SUMMARY:Jornada musical
DESCRIPTION:Jornada musical Lamardemúsica \n\n\n\nFecha: Sábado 31 de mayo \n\n\n\nHora: de 12.30 h a 21.00 h \n\n\n\nLugar: Terraza Bar Ultramar \n\n\n\nLocalidad: Aguilar de Campoo \n\n\n\nEntrada gratuita
URL:https://radioaguilar.com/evento/jornada-musical-2/
CATEGORIES:Cultura
ATTACH;FMTTYPE=image/jpeg:https://radioaguilar.com/contenido/La-Mar-de-Musica.jpg
END:VEVENT
BEGIN:VEVENT
DTSTART;TZID=Europe/Madrid:20250531T000000
DTEND;TZID=Europe/Madrid:20250531T235959
DTSTAMP:20260426T034753
CREATED:20250513T115455Z
LAST-MODIFIED:20250513T115531Z
UID:112062-1748649600-1748735999@radioaguilar.com
SUMMARY:Exposición
DESCRIPTION:Exposición de las ilustraciones de los microrrelatos ganadores del concurso 2025 realizadas por Locu. \n\n\n\nFecha: Hasta el 31 de mayo \n\n\n\nLugar: Biblioteca Municipal Bernardo El Carpio \n\n\n\nLocalidad: Aguilar de Campoo
URL:https://radioaguilar.com/evento/exposicion-18/
CATEGORIES:Cultura
ATTACH;FMTTYPE=image/jpeg:https://radioaguilar.com/contenido/cartel-Aguilar-Biblioteca-Microrrelatos-2025-1.jpg
END:VEVENT
END:VCALENDAR