BEGIN:VCALENDAR
VERSION:2.0
PRODID:-//Radio Aguilar FM - ECPv6.15.20//NONSGML v1.0//EN
CALSCALE:GREGORIAN
METHOD:PUBLISH
X-ORIGINAL-URL:https://radioaguilar.com
X-WR-CALDESC:Eventos para Radio Aguilar FM
REFRESH-INTERVAL;VALUE=DURATION:PT1H
X-Robots-Tag:noindex
X-PUBLISHED-TTL:PT1H
BEGIN:VTIMEZONE
TZID:Europe/Madrid
BEGIN:DAYLIGHT
TZOFFSETFROM:+0100
TZOFFSETTO:+0200
TZNAME:CEST
DTSTART:20240331T010000
END:DAYLIGHT
BEGIN:STANDARD
TZOFFSETFROM:+0200
TZOFFSETTO:+0100
TZNAME:CET
DTSTART:20241027T010000
END:STANDARD
BEGIN:DAYLIGHT
TZOFFSETFROM:+0100
TZOFFSETTO:+0200
TZNAME:CEST
DTSTART:20250330T010000
END:DAYLIGHT
BEGIN:STANDARD
TZOFFSETFROM:+0200
TZOFFSETTO:+0100
TZNAME:CET
DTSTART:20251026T010000
END:STANDARD
BEGIN:DAYLIGHT
TZOFFSETFROM:+0100
TZOFFSETTO:+0200
TZNAME:CEST
DTSTART:20260329T010000
END:DAYLIGHT
BEGIN:STANDARD
TZOFFSETFROM:+0200
TZOFFSETTO:+0100
TZNAME:CET
DTSTART:20261025T010000
END:STANDARD
END:VTIMEZONE
BEGIN:VEVENT
DTSTART;TZID=Europe/Madrid:20250704T000000
DTEND;TZID=Europe/Madrid:20250704T235959
DTSTAMP:20260426T005326
CREATED:20250623T115339Z
LAST-MODIFIED:20250623T115340Z
UID:113746-1751587200-1751673599@radioaguilar.com
SUMMARY:Fiesta presentación Galleta Rock Fest
DESCRIPTION:Fiesta presentación Galleta Rock Fest con las actuaciones de los grupos Los Pelukeros de Punset\, Delirio y Octavio Nievsky y Los Electromates Azules. \n\n\n\nFecha: viernes 4 de julio \n\n\n\nHora: 20.00 h \n\n\n\nLugar: Plaza La Compasión \n\n\n\nLocalidad: Aguilar de Campoo \n\n\n\nEntrada gratuita
URL:https://radioaguilar.com/evento/fiesta-presentacion-galleta-rock-fest/
CATEGORIES:Cultura
ATTACH;FMTTYPE=image/jpeg:https://radioaguilar.com/contenido/Galleta-Rock-8.jpg
END:VEVENT
BEGIN:VEVENT
DTSTART;TZID=Europe/Madrid:20250705T000000
DTEND;TZID=Europe/Madrid:20250705T235959
DTSTAMP:20260426T005326
CREATED:20250130T184136Z
LAST-MODIFIED:20250529T110109Z
UID:108830-1751673600-1751759999@radioaguilar.com
SUMMARY:Entradas Galleta Rock Fest 2025
DESCRIPTION:Ya se pueden conseguir las entradas via online para el próximo Galleta Rock Fest a través de el siguiente enlace: https://woutick.com/es/entradas/galleta-rock-fest-2025 \n\n\n\nTambién se pueden adquirir en diferentes puntos físicos de Aguilar de Campoo y otras localidades. \n\n\n\nIMPORTANTE:  \n\n\n\nComunicado de la organización del festival con motivo de la quiebra de la tiquetera Wegow: \n\n\n\n«Hace unos días\, Wegow\, la ticketera que gestionaba las entradas  del #GalletaRockFest25\, se ha declarado en bancarrota y ha cesado su actividad.¿Qué significa esto? Que ahora mismo\, tienen el dinero de las entradas compradas hasta ahora y que\, probablemente\, no veremos ese dinero.No obstante\, os anunciamos en este post que el GALLETA ROCK FEST 2025 SIGUE EN PIE  y os queremos transmitir absoluta TRANQUILIDAD. Los que habéis comprado entradas hasta ahora en Wegow\, son totalmente VÁLIDAS para nuestro evento\, no tenéis que hacer nada.También os anunciamos que hemos cambiado de ticketera para que adquiráis a partir de ahora las entradas sin problemas\, será @woutickOs dejamos el enlace en la bio de Instagram\, en stories y capturando el QR de la siguiente publicación ¡Muchas gracias por seguir ahí! Por comprar entradas antes y ahora\, y por seguir apoyándonos Vosotros y vosotras\, a pesar de este este pequeño palo\, hacéis que esto siga en pie»
URL:https://radioaguilar.com/evento/entradas-galleta-rock-fest-2025/
CATEGORIES:Cultura
ATTACH;FMTTYPE=image/jpeg:https://radioaguilar.com/contenido/GALLETA-ROCK-7.jpg
END:VEVENT
BEGIN:VEVENT
DTSTART;TZID=Europe/Madrid:20250705T000000
DTEND;TZID=Europe/Madrid:20250705T235959
DTSTAMP:20260426T005326
CREATED:20250703T103204Z
LAST-MODIFIED:20250703T103205Z
UID:113963-1751673600-1751759999@radioaguilar.com
SUMMARY:Horarios del Galleta Rock Fest 2025
DESCRIPTION:Horarios del Galleta Rock Fest 2025.
URL:https://radioaguilar.com/evento/horarios-del-galleta-rock-fest-2025/
CATEGORIES:Cultura
ATTACH;FMTTYPE=image/jpeg:https://radioaguilar.com/contenido/Horarios-Galleta-Rock.jpg
END:VEVENT
BEGIN:VEVENT
DTSTART;TZID=Europe/Madrid:20250705T000000
DTEND;TZID=Europe/Madrid:20250706T235959
DTSTAMP:20260426T005326
CREATED:20250625T231549Z
LAST-MODIFIED:20250625T231550Z
UID:113842-1751673600-1751846399@radioaguilar.com
SUMMARY:XIII Jornadas de Recreación Histórica en el Castillo de Argüeso
DESCRIPTION:Fecha: 5 y 6 de julio \n\n\n\nLugar: Castillo de Argüeso
URL:https://radioaguilar.com/evento/xiii-jornadas-de-recreacion-historica-en-el-castillo-de-argueso/
CATEGORIES:Cultura
ATTACH;FMTTYPE=image/jpeg:https://radioaguilar.com/contenido/XIII-JORNADAS-DE-RECREACION-Ha-CASTILLO-DE-ARGUESO-2025.jpg
END:VEVENT
BEGIN:VEVENT
DTSTART;TZID=Europe/Madrid:20250707T210000
DTEND;TZID=Europe/Madrid:20250707T223000
DTSTAMP:20260426T005326
CREATED:20250725T115511Z
LAST-MODIFIED:20250725T115513Z
UID:114630-1751922000-1751927400@radioaguilar.com
SUMMARY:'Música en la Montaña Palentina'
DESCRIPTION:Fecha: jueves\, 7 de agosto \n\n\n\nHora: 21.00 h. \n\n\n\nLugar: playa Virgen de Llano de Aguilar de Campoo \n\n\n\nEntrada gratuita
URL:https://radioaguilar.com/evento/musica-en-la-montana-palentina/
CATEGORIES:Cultura
ATTACH;FMTTYPE=image/jpeg:https://radioaguilar.com/contenido/Cartel-Los-Secretos.jpg
END:VEVENT
BEGIN:VEVENT
DTSTART;TZID=Europe/Madrid:20250712T000000
DTEND;TZID=Europe/Madrid:20250712T235959
DTSTAMP:20260426T005326
CREATED:20250702T152523Z
LAST-MODIFIED:20250702T152524Z
UID:113954-1752278400-1752364799@radioaguilar.com
SUMMARY:Festival de la Luz
DESCRIPTION:Festival de la Luz. \n\n\n\nFecha: sábado 12 de julio \n\n\n\nHora: 20.00 h \n\n\n\nLugar: Teatro Principal \n\n\n\nLocalidad: Reinosa
URL:https://radioaguilar.com/evento/festival-de-la-luz/
CATEGORIES:Cultura
ATTACH;FMTTYPE=image/png:https://radioaguilar.com/contenido/cartel-festival-luz.png
END:VEVENT
BEGIN:VEVENT
DTSTART;TZID=Europe/Madrid:20250712T000000
DTEND;TZID=Europe/Madrid:20250712T235959
DTSTAMP:20260426T005326
CREATED:20250709T110659Z
LAST-MODIFIED:20250709T110701Z
UID:114030-1752278400-1752364799@radioaguilar.com
SUMMARY:Fiesta Rociera
DESCRIPTION:9ª Fiesta Rociera. \n\n\n\nFecha: sábado 12 de julio \n\n\n\nHora: desde las 11.30 h \n\n\n\nLugar: Plaza de España y Camping Monte Royal \n\n\n\nLocalidad: Aguilar de Campoo
URL:https://radioaguilar.com/evento/fiesta-rociera-2/
CATEGORIES:Cultura,Fiestas
ATTACH;FMTTYPE=image/jpeg:https://radioaguilar.com/contenido/Fiesta-Rociera-2025.jpg
END:VEVENT
BEGIN:VEVENT
DTSTART;TZID=Europe/Madrid:20250715T193000
DTEND;TZID=Europe/Madrid:20250717T100000
DTSTAMP:20260426T005326
CREATED:20250625T225633Z
LAST-MODIFIED:20250625T225634Z
UID:113833-1752607800-1752746400@radioaguilar.com
SUMMARY:Cursos de verano en el Castillo de Argüeso
DESCRIPTION:Ciclo de conferencias ‘Patrimonio cultural y memoria local: retos para su conservación’ \n\n\n\nFecha: del 15 al 17 de julio \n\n\n\nEntrada libre hasta completar aforo
URL:https://radioaguilar.com/evento/cursos-de-verano-en-el-castillo-de-argueso/
CATEGORIES:Cultura
ATTACH;FMTTYPE=image/jpeg:https://radioaguilar.com/contenido/CICLO-CONFERENCIAS-CURSOS-UC-2025-scaled.jpg
END:VEVENT
BEGIN:VEVENT
DTSTART;TZID=Europe/Madrid:20250717T200000
DTEND;TZID=Europe/Madrid:20250717T213000
DTSTAMP:20260426T005326
CREATED:20250716T101308Z
LAST-MODIFIED:20250716T101309Z
UID:114194-1752782400-1752787800@radioaguilar.com
SUMMARY:Narración oral para adultos en el patio de la Biblioteca de Aguilar de Campoo
DESCRIPTION:Fecha: jueves\, 17 de julio \n\n\n\nHora: 20.00 h. \n\n\n\nLugar: patio de la Biblioteca de Aguilar de Campoo
URL:https://radioaguilar.com/evento/narracion-oral-para-adultos-en-el-patio-de-la-biblioteca-de-aguilar-de-campoo/
CATEGORIES:Cultura
ATTACH;FMTTYPE=image/jpeg:https://radioaguilar.com/contenido/Pario_1.jpeg
END:VEVENT
BEGIN:VEVENT
DTSTART;TZID=Europe/Madrid:20250718T000000
DTEND;TZID=Europe/Madrid:20250718T235959
DTSTAMP:20260426T005326
CREATED:20250714T115721Z
LAST-MODIFIED:20250714T115722Z
UID:114120-1752796800-1752883199@radioaguilar.com
SUMMARY:Presentación de libro
DESCRIPTION:Presentación del libro Guía contra la desinformación. \n\n\n\nFecha: viernes 18 de julio \n\n\n\nHora: 12.00 h \n\n\n\nLugar: Biblioteca municipal \n\n\n\nLocalidad: Aguilar de Campoo
URL:https://radioaguilar.com/evento/presentacion-de-libro-3/
CATEGORIES:Cultura
ATTACH;FMTTYPE=image/jpeg:https://radioaguilar.com/contenido/Desinformacion.jpeg
END:VEVENT
BEGIN:VEVENT
DTSTART;TZID=Europe/Madrid:20250718T080000
DTEND;TZID=Europe/Madrid:20250718T170000
DTSTAMP:20260426T005326
CREATED:20250718T122237Z
LAST-MODIFIED:20250718T122238Z
UID:114366-1752825600-1752858000@radioaguilar.com
SUMMARY:Jornadas de la minería y la geología
DESCRIPTION:XI Jornadas de la minería y la geología de Barruelo de Santullán \n\n\n\nFecha: del 30 de julio al 1 de agosto \n\n\n\nLugar: Museo de la Minería \n\n\n\nLocalidad: Barruelo de Santullán \n\n\n\nEntrada gratuita hasta completar aforo
URL:https://radioaguilar.com/evento/jornadas-de-la-mineria-y-la-geologia/
CATEGORIES:Cultura
ATTACH;FMTTYPE=image/jpeg:https://radioaguilar.com/contenido/Mineria.jpeg
END:VEVENT
BEGIN:VEVENT
DTSTART;TZID=Europe/Madrid:20250719T100000
DTEND;TZID=Europe/Madrid:20250719T140000
DTSTAMP:20260426T005326
CREATED:20250717T095750Z
LAST-MODIFIED:20250717T095750Z
UID:114263-1752919200-1752933600@radioaguilar.com
SUMMARY:Taller de escaneo
DESCRIPTION:Taller de escaneo 3D Artec Leo. \n\n\n\nFecha: sábado 19 de julio \n\n\n\nHora: 10.00 h \n\n\n\nLugar: Mueso Ursi \n\n\n\nLocalidad: Aguilar de Campoo
URL:https://radioaguilar.com/evento/taller-de-escaneo/
CATEGORIES:Cultura
ATTACH;FMTTYPE=image/jpeg:https://radioaguilar.com/contenido/Taller-escaneo.jpeg
END:VEVENT
BEGIN:VEVENT
DTSTART;TZID=Europe/Madrid:20250720T000000
DTEND;TZID=Europe/Madrid:20250720T235959
DTSTAMP:20260426T005326
CREATED:20250714T113905Z
LAST-MODIFIED:20250714T113906Z
UID:114117-1752969600-1753055999@radioaguilar.com
SUMMARY:Exposición
DESCRIPTION:Exposición de óleos de Darío Castañeda. \n\n\n\nFecha: del 7 al 20 de julio \n\n\n\nLugar: Centro de mayores \n\n\n\nLocalidad: Barruelo de Santullán
URL:https://radioaguilar.com/evento/exposicion-23/
CATEGORIES:Cultura
ATTACH;FMTTYPE=image/jpeg:https://radioaguilar.com/contenido/Barruelo-2_page-0001-1.jpg
END:VEVENT
BEGIN:VEVENT
DTSTART;TZID=Europe/Madrid:20250720T000000
DTEND;TZID=Europe/Madrid:20250720T235959
DTSTAMP:20260426T005326
CREATED:20250716T113525Z
LAST-MODIFIED:20250716T113526Z
UID:114223-1752969600-1753055999@radioaguilar.com
SUMMARY:Jornada de la interculturalidad
DESCRIPTION:Jornada de la interculturalidad. \n\n\n\nFecha: domingo 20 de julio  \n\n\n\nHora: de 11.00 h a 22.00 h \n\n\n\n Lugar: Plaza de España  \n\n\n\nLocalidad: Aguilar de Campoo
URL:https://radioaguilar.com/evento/jornada-de-la-interculturalidad-3/
CATEGORIES:Cultura
ATTACH;FMTTYPE=image/jpeg:https://radioaguilar.com/contenido/Interculturalidad-01.jpeg
END:VEVENT
BEGIN:VEVENT
DTSTART;TZID=Europe/Madrid:20250720T000000
DTEND;TZID=Europe/Madrid:20250720T235959
DTSTAMP:20260426T005326
CREATED:20250716T113743Z
LAST-MODIFIED:20250716T113744Z
UID:114225-1752969600-1753055999@radioaguilar.com
SUMMARY:Jornada de la interculturalidad
DESCRIPTION:Jornada de la interculturalidad.  \n\n\n\nFecha: domingo 20 de julio  \n\n\n\nHora: de 11.00 h a 22.00 h  \n\n\n\nLugar: Plaza de España  \n\n\n\nLocalidad: Aguilar de Campoo
URL:https://radioaguilar.com/evento/jornada-de-la-interculturalidad-4/
CATEGORIES:Cultura
ATTACH;FMTTYPE=image/jpeg:https://radioaguilar.com/contenido/Interculturalidad-02.jpeg
END:VEVENT
BEGIN:VEVENT
DTSTART;TZID=Europe/Madrid:20250720T080000
DTEND;TZID=Europe/Madrid:20250720T170000
DTSTAMP:20260426T005326
CREATED:20250714T124836Z
LAST-MODIFIED:20250715T100117Z
UID:114123-1752998400-1753030800@radioaguilar.com
SUMMARY:Jornada de la interculturalidad
DESCRIPTION:Jornada de la interculturalidad. \n\n\n\nFecha: domingo 20 de julio \n\n\n\nHora: de 11.00 h a 22.00 h \n\n\n\nLugar: Plaza de España \n\n\n\nLocalidad: Aguilar de Campoo
URL:https://radioaguilar.com/evento/jornada-de-la-interculturalidad-2/
CATEGORIES:Cultura
ATTACH;FMTTYPE=image/jpeg:https://radioaguilar.com/contenido/Interculturalidad.jpeg
END:VEVENT
BEGIN:VEVENT
DTSTART;TZID=Europe/Madrid:20250724T170000
DTEND;TZID=Europe/Madrid:20250724T190000
DTSTAMP:20260426T005326
CREATED:20250723T105440Z
LAST-MODIFIED:20250723T105440Z
UID:114516-1753376400-1753383600@radioaguilar.com
SUMMARY:Jornada de puertas abiertas 'El asedio de la Loma'
DESCRIPTION:Fecha: jueves\, 24 de julio \n\n\n\nLugar: Santibáñez de la Peña
URL:https://radioaguilar.com/evento/jornada-de-puertas-abiertas-el-asedio-de-la-loma/
CATEGORIES:Cultura
ATTACH;FMTTYPE=image/jpeg:https://radioaguilar.com/contenido/PUERTAS-ABIERTAS.jpeg
END:VEVENT
BEGIN:VEVENT
DTSTART;TZID=Europe/Madrid:20250724T200000
DTEND;TZID=Europe/Madrid:20250724T213000
DTSTAMP:20260426T005326
CREATED:20250723T105150Z
LAST-MODIFIED:20250723T105151Z
UID:114513-1753387200-1753392600@radioaguilar.com
SUMMARY:Narración oral para adultos en la Biblioteca de Aguilar de Campoo
DESCRIPTION:Fecha: jueves\, 24 de julio \n\n\n\nHora: 20.00 h. \n\n\n\nLugar: Patio de la Biblioteca \n\n\n\nEntrada libre
URL:https://radioaguilar.com/evento/narracion-oral-para-adultos-en-la-biblioteca-de-aguilar-de-campoo/
CATEGORIES:Cultura
ATTACH;FMTTYPE=image/jpeg:https://radioaguilar.com/contenido/Cuentos-1.jpg
END:VEVENT
BEGIN:VEVENT
DTSTART;TZID=Europe/Madrid:20250725T000000
DTEND;TZID=Europe/Madrid:20250725T235959
DTSTAMP:20260426T005326
CREATED:20250317T133259Z
LAST-MODIFIED:20250430T115458Z
UID:110372-1753401600-1753487999@radioaguilar.com
SUMMARY:Coronafest
DESCRIPTION:Festival de música urbana y comercial Coronafest.  \n\n\n\nFecha: Sábado 25 de julio \n\n\n\nLugar: Las Campas – Campos de fútbol Pedro López \n\n\n\nLocalidad: Aguilar de Campoo \n\n\n\nEntradas: https://www.coronafestoficial.com/
URL:https://radioaguilar.com/evento/coronafest/
CATEGORIES:Cultura
ATTACH;FMTTYPE=image/png:https://radioaguilar.com/contenido/2.png
END:VEVENT
BEGIN:VEVENT
DTSTART;TZID=Europe/Madrid:20250725T000000
DTEND;TZID=Europe/Madrid:20250725T235959
DTSTAMP:20260426T005326
CREATED:20250402T115156Z
LAST-MODIFIED:20250402T115158Z
UID:111030-1753401600-1753487999@radioaguilar.com
SUMMARY:Concierto
DESCRIPTION:Concierto de rock con las actuaciones de los grupos Chacal\, Emboque y A Traición. \n\n\n\nFecha: viernes 25 de julio \n\n\n\nHora: 22.00 h \n\n\n\nLugar: Estación de autobuses \n\n\n\nLocalidad: Herrera de Pisuerga \n\n\n\nEntrada gratuita.
URL:https://radioaguilar.com/evento/concierto-26/
CATEGORIES:Cultura
ATTACH;FMTTYPE=image/jpeg:https://radioaguilar.com/contenido/cartel-Herrera-25-7-2025-scaled.jpg
END:VEVENT
BEGIN:VEVENT
DTSTART;TZID=Europe/Madrid:20250726T000000
DTEND;TZID=Europe/Madrid:20250726T235959
DTSTAMP:20260426T005326
CREATED:20250716T112939Z
LAST-MODIFIED:20250716T112940Z
UID:114216-1753488000-1753574399@radioaguilar.com
SUMMARY:Marcha jacobea
DESCRIPTION:Marcha jacobea por el Camino Olvidado a Santiago\, desde Aguilar de Campoo a Salinas de Pisuerga\, con regreso en autobús. \n\n\n\nFecha: sábado 26 de julio \n\n\n\nHora: 9.30 h \n\n\n\nSalida: Colegiata San Miguel (Aguilar de Campoo) \n\n\n\nInscripciones: 605 988 050
URL:https://radioaguilar.com/evento/marcha-jacobea/
CATEGORIES:Cultura,Deporte
ATTACH;FMTTYPE=image/jpeg:https://radioaguilar.com/contenido/Camino-Olvidado.jpeg
END:VEVENT
BEGIN:VEVENT
DTSTART;TZID=Europe/Madrid:20250726T000000
DTEND;TZID=Europe/Madrid:20250726T235959
DTSTAMP:20260426T005326
CREATED:20250723T104442Z
LAST-MODIFIED:20250723T104443Z
UID:114502-1753488000-1753574399@radioaguilar.com
SUMMARY:IV Festival de Folclore Perla del Valle Reinosa
DESCRIPTION:Fecha: sábado\, 26 de julio \n\n\n\nLugar: Reinosa
URL:https://radioaguilar.com/evento/iv-festival-de-folclore-perla-del-valle-reinosa/
CATEGORIES:Cultura
ATTACH;FMTTYPE=image/jpeg:https://radioaguilar.com/contenido/CARTEL-PERLA-DEL-VALLE-DEFINITIVO.jpeg
END:VEVENT
BEGIN:VEVENT
DTSTART;TZID=Europe/Madrid:20250729T190000
DTEND;TZID=Europe/Madrid:20250729T210000
DTSTAMP:20260426T005326
CREATED:20250722T090936Z
LAST-MODIFIED:20250722T090937Z
UID:114430-1753815600-1753822800@radioaguilar.com
SUMMARY:'Románikas. ¿Dónde están las mujeres en el románico?
DESCRIPTION:De vinos por la historia. Con Paloma Jimena y Cristina Párbole \n\n\n\nFecha: martes\, 29 de julio \n\n\n\nHora: 19.00 h. \n\n\n\nLugar: Bar Al Socayo de Aguilar de Campoo
URL:https://radioaguilar.com/evento/romanikas-donde-estan-las-mujeres-en-el-romanico/
CATEGORIES:Cultura
ATTACH;FMTTYPE=image/jpeg:https://radioaguilar.com/contenido/Charla-7.jpg
END:VEVENT
BEGIN:VEVENT
DTSTART;TZID=Europe/Madrid:20250729T200000
DTEND;TZID=Europe/Madrid:20250729T220000
DTSTAMP:20260426T005326
CREATED:20250715T085516Z
LAST-MODIFIED:20250729T104803Z
UID:114141-1753819200-1753826400@radioaguilar.com
SUMMARY:X Jornadas de Arqueología y Patrimonio Natural
DESCRIPTION:Fecha: Del 15 al 29 de julio \n\n\n\nHora: 20.00 h. \n\n\n\nLugar: Casa del Cangrejo de Herrera de Pisuerga
URL:https://radioaguilar.com/evento/x-jornadas-de-arqueologia-y-patrimonio-natural/
CATEGORIES:Cultura
ATTACH;FMTTYPE=image/jpeg:https://radioaguilar.com/contenido/Jornadas-1.jpg
END:VEVENT
BEGIN:VEVENT
DTSTART;TZID=Europe/Madrid:20250731T200000
DTEND;TZID=Europe/Madrid:20250731T210000
DTSTAMP:20260426T005326
CREATED:20250625T223140Z
LAST-MODIFIED:20250729T104836Z
UID:113826-1753992000-1753995600@radioaguilar.com
SUMMARY:Verano en el patio de la Biblioteca de Aguilar
DESCRIPTION:Fecha: del 10 al 31 de julio \n\n\n\nEntrada gratuita hasta completar aforo \n\n\n\nPúblico: recomendada a partir de 16 años
URL:https://radioaguilar.com/evento/verano-en-el-patio-de-la-biblioteca-de-aguilar/
CATEGORIES:Cultura
ATTACH;FMTTYPE=image/jpeg:https://radioaguilar.com/contenido/Biblioteca-patio.jpg
END:VEVENT
BEGIN:VEVENT
DTSTART;TZID=Europe/Madrid:20250731T200000
DTEND;TZID=Europe/Madrid:20250731T213000
DTSTAMP:20260426T005326
CREATED:20250730T103038Z
LAST-MODIFIED:20250730T103040Z
UID:114735-1753992000-1753997400@radioaguilar.com
SUMMARY:Maref en concierto
DESCRIPTION:Fecha: jueves\, 31 de julio \n\n\n\nHora: 20.00 h. \n\n\n\nLugar: patio de la Biblioteca de Aguilar \n\n\n\nEntrada libre hasta completar aforo
URL:https://radioaguilar.com/evento/maref-en-concierto/
CATEGORIES:Cultura
ATTACH;FMTTYPE=image/jpeg:https://radioaguilar.com/contenido/Concierto-3.jpeg
END:VEVENT
END:VCALENDAR