BEGIN:VCALENDAR
VERSION:2.0
PRODID:-//Radio Aguilar FM - ECPv6.15.20//NONSGML v1.0//EN
CALSCALE:GREGORIAN
METHOD:PUBLISH
X-ORIGINAL-URL:https://radioaguilar.com
X-WR-CALDESC:Eventos para Radio Aguilar FM
REFRESH-INTERVAL;VALUE=DURATION:PT1H
X-Robots-Tag:noindex
X-PUBLISHED-TTL:PT1H
BEGIN:VTIMEZONE
TZID:Europe/Madrid
BEGIN:DAYLIGHT
TZOFFSETFROM:+0100
TZOFFSETTO:+0200
TZNAME:CEST
DTSTART:20240331T010000
END:DAYLIGHT
BEGIN:STANDARD
TZOFFSETFROM:+0200
TZOFFSETTO:+0100
TZNAME:CET
DTSTART:20241027T010000
END:STANDARD
BEGIN:DAYLIGHT
TZOFFSETFROM:+0100
TZOFFSETTO:+0200
TZNAME:CEST
DTSTART:20250330T010000
END:DAYLIGHT
BEGIN:STANDARD
TZOFFSETFROM:+0200
TZOFFSETTO:+0100
TZNAME:CET
DTSTART:20251026T010000
END:STANDARD
BEGIN:DAYLIGHT
TZOFFSETFROM:+0100
TZOFFSETTO:+0200
TZNAME:CEST
DTSTART:20260329T010000
END:DAYLIGHT
BEGIN:STANDARD
TZOFFSETFROM:+0200
TZOFFSETTO:+0100
TZNAME:CET
DTSTART:20261025T010000
END:STANDARD
END:VTIMEZONE
BEGIN:VEVENT
DTSTART;TZID=Europe/Madrid:20250906T000000
DTEND;TZID=Europe/Madrid:20250906T235959
DTSTAMP:20260425T215319
CREATED:20250722T091804Z
LAST-MODIFIED:20250722T091806Z
UID:114432-1757116800-1757203199@radioaguilar.com
SUMMARY:XXIII Certamen Nacional de Pintura Rápida Aguilar de Campoo
DESCRIPTION:XXIII Certamen Nacional de Pintura Rápida Aguilar de Campoo \n\n\n\nFecha: sábado\, 6 de septiembre \n\n\n\n3.700 euros en premios
URL:https://radioaguilar.com/evento/xxiii-certamen-nacional-de-pintura-rapida-aguilar-de-campoo/
CATEGORIES:Cultura
ATTACH;FMTTYPE=image/jpeg:https://radioaguilar.com/contenido/250722-Cartel-de-pintura-rapida.jpg
END:VEVENT
BEGIN:VEVENT
DTSTART;TZID=Europe/Madrid:20250906T110000
DTEND;TZID=Europe/Madrid:20250906T130000
DTSTAMP:20260425T215319
CREATED:20250826T110126Z
LAST-MODIFIED:20250826T110128Z
UID:115637-1757156400-1757163600@radioaguilar.com
SUMMARY:Charlas Caminadas re-descubriendo Aguilar de Campoo
DESCRIPTION:Charla ‘Aguilar de Campoo: Una villa bimilenaria’ \n\n\n\nFecha: sábado\, 06 de septiembre \n\n\n\nHora: de 11 a 13 h.
URL:https://radioaguilar.com/evento/charlas-caminadas-re-descubriendo-aguilar-de-campoo-2/
CATEGORIES:Cultura
ATTACH;FMTTYPE=image/jpeg:https://radioaguilar.com/contenido/Charlas-Caminadas-4.jpg
END:VEVENT
BEGIN:VEVENT
DTSTART;TZID=Europe/Madrid:20250907T000000
DTEND;TZID=Europe/Madrid:20250907T235959
DTSTAMP:20260425T215319
CREATED:20250819T113316Z
LAST-MODIFIED:20250819T113317Z
UID:115382-1757203200-1757289599@radioaguilar.com
SUMMARY:Concurso de pintura rápida
DESCRIPTION:X concurso de dibujo y pintura rápida memorial Abundio Calderón \n\n\n\nFecha: domingo 7 de septiembre \n\n\n\nHora: 10.00 h \n\n\n\nLugar: Virgen de Llano \n\n\n\nLocalidad: Aguilar de Campoo
URL:https://radioaguilar.com/evento/concurso-de-pintura-rapida/
CATEGORIES:Cultura
ATTACH;FMTTYPE=image/jpeg:https://radioaguilar.com/contenido/Concurso-pintura-1.jpeg
END:VEVENT
BEGIN:VEVENT
DTSTART;TZID=Europe/Madrid:20250908T000000
DTEND;TZID=Europe/Madrid:20250908T235959
DTSTAMP:20260425T215319
CREATED:20250807T092129Z
LAST-MODIFIED:20250807T092130Z
UID:115068-1757289600-1757375999@radioaguilar.com
SUMMARY:Exposición
DESCRIPTION:Exposición con obras de Miguel Sansón \n\n\n\nFecha: hasta el 8 de septiembre \n\n\n\nLugar: Espacio de arte Al Socayo \n\n\n\nLocalidad; Aguilar de Campoo
URL:https://radioaguilar.com/evento/exposicion-24/
CATEGORIES:Cultura
ATTACH;FMTTYPE=image/jpeg:https://radioaguilar.com/contenido/Expo-Socayo-1.jpeg
END:VEVENT
BEGIN:VEVENT
DTSTART;TZID=Europe/Madrid:20250913T190000
DTEND;TZID=Europe/Madrid:20250913T210000
DTSTAMP:20260425T215319
CREATED:20250901T102732Z
LAST-MODIFIED:20250901T102733Z
UID:115777-1757790000-1757797200@radioaguilar.com
SUMMARY:Actuación en el Monasterio de Santa María la Real
DESCRIPTION:Coro de Profesores del IES Rosa Chacel de Colmenar Viejo (Madrid) \n\n\n\nFecha: sábado\, 13 de septiembre \n\n\n\nHora: 19.00 h. \n\n\n\nLugar: Monasterio de Santa María la Real de Aguilar de Campoo
URL:https://radioaguilar.com/evento/actuacion-en-el-monasterio-de-santa-maria-la-real/
CATEGORIES:Cultura
ATTACH;FMTTYPE=image/jpeg:https://radioaguilar.com/contenido/Coro.jpeg
END:VEVENT
BEGIN:VEVENT
DTSTART;TZID=Europe/Madrid:20250917T200000
DTEND;TZID=Europe/Madrid:20250917T210000
DTSTAMP:20260425T215319
CREATED:20250915T102702Z
LAST-MODIFIED:20250915T102703Z
UID:116226-1758139200-1758142800@radioaguilar.com
SUMMARY:Presentación libro en la Biblioteca de Aguilar de Campoo
DESCRIPTION:Presentación del libro de Carlos Porro Fernández ‘La dulzaina en Becerril de Campos\, Villaumbrales y Grijota: la familia Guzón’.   \n\n\n\nFecha: miércoles 17 de septiembre  \n\n\n\nHora: a las 20:00 h.  \n\n\n\nLugar: Biblioteca de Aguilar de Campoo
URL:https://radioaguilar.com/evento/presentacion-libro-en-la-biblioteca-de-aguilar-de-campoo-2/
CATEGORIES:Cultura
ATTACH;FMTTYPE=image/jpeg:https://radioaguilar.com/contenido/Libro-2.jpg
END:VEVENT
BEGIN:VEVENT
DTSTART;TZID=Europe/Madrid:20250919T000000
DTEND;TZID=Europe/Madrid:20250919T235959
DTSTAMP:20260425T215319
CREATED:20250723T113606Z
LAST-MODIFIED:20250723T113607Z
UID:114531-1758240000-1758326399@radioaguilar.com
SUMMARY:Románico Musical 2025
DESCRIPTION:Programación Románico Musical 2025.
URL:https://radioaguilar.com/evento/romanico-musical-2025/
CATEGORIES:Cultura
ATTACH;FMTTYPE=image/jpeg:https://radioaguilar.com/contenido/Nartex-1.jpg
END:VEVENT
BEGIN:VEVENT
DTSTART;TZID=Europe/Madrid:20250920T000000
DTEND;TZID=Europe/Madrid:20250920T235959
DTSTAMP:20260425T215319
CREATED:20250903T095624Z
LAST-MODIFIED:20250915T102407Z
UID:115865-1758326400-1758412799@radioaguilar.com
SUMMARY:Exposición de la Asociación Cultural El Palenque de Laredo
DESCRIPTION:Lugar: Biblioteca de Aguilar de Campoo \n\n\n\nFecha: del 8 al 20 de septiembre
URL:https://radioaguilar.com/evento/exposicion-de-la-asociacion-cultural-el-palenque-de-laredo/
CATEGORIES:Cultura
ATTACH;FMTTYPE=image/jpeg:https://radioaguilar.com/contenido/Exposicion-7.jpg
END:VEVENT
BEGIN:VEVENT
DTSTART;TZID=Europe/Madrid:20250920T113000
DTEND;TZID=Europe/Madrid:20250920T173000
DTSTAMP:20260425T215319
CREATED:20250917T084445Z
LAST-MODIFIED:20250917T084447Z
UID:116280-1758367800-1758389400@radioaguilar.com
SUMMARY:Jornada de Puertas Abiertas en Huerta Varona
DESCRIPTION:Jornada de puertas abiertas al yacimiento arqueológico de Huerta Varona en Aguilar de Campoo \n\n\n\nFecha: sábado\, 20 de septiembre \n\n\n\nHora: 11.30 y 17.30 h.
URL:https://radioaguilar.com/evento/jornada-de-puertas-abiertas-en-huerta-varona/
CATEGORIES:Cultura
ATTACH;FMTTYPE=image/jpeg:https://radioaguilar.com/contenido/Jornada-puertas-abiertas-2.jpg
END:VEVENT
BEGIN:VEVENT
DTSTART;TZID=Europe/Madrid:20250921T000000
DTEND;TZID=Europe/Madrid:20250921T235959
DTSTAMP:20260425T215319
CREATED:20250819T114725Z
LAST-MODIFIED:20250819T114726Z
UID:115393-1758412800-1758499199@radioaguilar.com
SUMMARY:Certamen de pintura rápida
DESCRIPTION:XI certamen nacional de pintura rápida `Virgen del Brezo´ \n\n\n\nFecha: domingo 21 de septiembre \n\n\n\nLocalidad: Santibañez de la Peña
URL:https://radioaguilar.com/evento/certamen-de-pintura-rapida-2/
CATEGORIES:Cultura
ATTACH;FMTTYPE=image/jpeg:https://radioaguilar.com/contenido/triptico-XI-CERTAMEN-PINTURA-SANTIBANEZ-2025_page-0002.jpg
END:VEVENT
BEGIN:VEVENT
DTSTART;TZID=Europe/Madrid:20250924T000000
DTEND;TZID=Europe/Madrid:20250924T235959
DTSTAMP:20260425T215319
CREATED:20250922T115549Z
LAST-MODIFIED:20250922T115550Z
UID:116481-1758672000-1758758399@radioaguilar.com
SUMMARY:Jornada de puertas abiertas
DESCRIPTION:Jornada de puertas abiertas en el yacimiento de Monte Cildá. \n\n\n\nFecha: miércoles 24 de septiembre \n\n\n\nHora: 17.00 h \n\n\n\nLugar: Monte Cildá
URL:https://radioaguilar.com/evento/jornada-de-puertas-abiertas-2/
CATEGORIES:Cultura
END:VEVENT
BEGIN:VEVENT
DTSTART;TZID=Europe/Madrid:20250927T203000
DTEND;TZID=Europe/Madrid:20250927T213000
DTSTAMP:20260425T215319
CREATED:20250901T100816Z
LAST-MODIFIED:20250901T100836Z
UID:115764-1759005000-1759008600@radioaguilar.com
SUMMARY:Comedia con Félix 'El Gato'
DESCRIPTION:Tarde de comedia con Félix El Gato \n\n\n\nFecha: sábado\, 27 de septiembre \n\n\n\nHora: 20:30 h. \n\n\n\nLugar: Cine Amor de Aguilar de Campoo
URL:https://radioaguilar.com/evento/comedia-con-felix-el-gato-2/
CATEGORIES:Cultura
ATTACH;FMTTYPE=image/jpeg:https://radioaguilar.com/contenido/Actuacion-1.jpg
END:VEVENT
BEGIN:VEVENT
DTSTART;TZID=Europe/Madrid:20250930T000000
DTEND;TZID=Europe/Madrid:20250930T235959
DTSTAMP:20260425T215319
CREATED:20250911T104633Z
LAST-MODIFIED:20250911T104634Z
UID:116131-1759190400-1759276799@radioaguilar.com
SUMMARY:Exposición del XXIII Certamen Nacional de Pintura Rápida de Aguilar de Campoo
DESCRIPTION:Lugar: Biblioteca Municipal de Aguilar \n\n\n\nFecha: hasta el 30 de septiembre
URL:https://radioaguilar.com/evento/exposicion-del-xxiii-certamen-nacional-de-pintura-rapida-de-aguilar-de-campoo/
CATEGORIES:Cultura
ATTACH;FMTTYPE=image/jpeg:https://radioaguilar.com/contenido/Exposicion-3.jpeg
END:VEVENT
BEGIN:VEVENT
DTSTART;TZID=Europe/Madrid:20250930T080000
DTEND;TZID=Europe/Madrid:20250930T170000
DTSTAMP:20260425T215319
CREATED:20250901T104512Z
LAST-MODIFIED:20250923T082940Z
UID:115781-1759219200-1759251600@radioaguilar.com
SUMMARY:Club de Lectura 2025/2026 en la Biblioteca de Aguilar
DESCRIPTION:Inscripciones desde el 1 de septiembre \n\n\n\nPlazas limitadas por riguroso orden de inscripción \n\n\n\nInscripción en la Biblioteca de Aguilar\, en el teléfono 979 123 721 o mail biblioteca@aguilardecampoo.es
URL:https://radioaguilar.com/evento/club-de-lectura-2025-2026-en-la-biblioteca-de-aguilar/
CATEGORIES:Cultura
ATTACH;FMTTYPE=image/jpeg:https://radioaguilar.com/contenido/Club-Lectura.jpg
END:VEVENT
END:VCALENDAR