BEGIN:VCALENDAR
VERSION:2.0
PRODID:-//Radio Aguilar FM - ECPv6.15.20//NONSGML v1.0//EN
CALSCALE:GREGORIAN
METHOD:PUBLISH
X-WR-CALNAME:Radio Aguilar FM
X-ORIGINAL-URL:https://radioaguilar.com
X-WR-CALDESC:Eventos para Radio Aguilar FM
REFRESH-INTERVAL;VALUE=DURATION:PT1H
X-Robots-Tag:noindex
X-PUBLISHED-TTL:PT1H
BEGIN:VTIMEZONE
TZID:Europe/Madrid
BEGIN:DAYLIGHT
TZOFFSETFROM:+0100
TZOFFSETTO:+0200
TZNAME:CEST
DTSTART:20240331T010000
END:DAYLIGHT
BEGIN:STANDARD
TZOFFSETFROM:+0200
TZOFFSETTO:+0100
TZNAME:CET
DTSTART:20241027T010000
END:STANDARD
BEGIN:DAYLIGHT
TZOFFSETFROM:+0100
TZOFFSETTO:+0200
TZNAME:CEST
DTSTART:20250330T010000
END:DAYLIGHT
BEGIN:STANDARD
TZOFFSETFROM:+0200
TZOFFSETTO:+0100
TZNAME:CET
DTSTART:20251026T010000
END:STANDARD
BEGIN:DAYLIGHT
TZOFFSETFROM:+0100
TZOFFSETTO:+0200
TZNAME:CEST
DTSTART:20260329T010000
END:DAYLIGHT
BEGIN:STANDARD
TZOFFSETFROM:+0200
TZOFFSETTO:+0100
TZNAME:CET
DTSTART:20261025T010000
END:STANDARD
END:VTIMEZONE
BEGIN:VEVENT
DTSTART;TZID=Europe/Madrid:20251003T000000
DTEND;TZID=Europe/Madrid:20251003T235959
DTSTAMP:20260425T203949
CREATED:20250923T103711Z
LAST-MODIFIED:20250923T103712Z
UID:116516-1759449600-1759535999@radioaguilar.com
SUMMARY:Taller de ensayo y debate
DESCRIPTION:Lugar: Biblioteca de Aguilar de Campoo \n\n\n\nPlazo de inscripción: 3 de octubre \n\n\n\nGratuito \n\n\n\nPlazas: 15 personas mayores de 16 años
URL:https://radioaguilar.com/evento/taller-de-ensayo-y-debate-4/
CATEGORIES:Cultura
ATTACH;FMTTYPE=image/jpeg:https://radioaguilar.com/contenido/Taller-de-Ensayo.jpeg
END:VEVENT
BEGIN:VEVENT
DTSTART;TZID=Europe/Madrid:20251004T000000
DTEND;TZID=Europe/Madrid:20251004T235959
DTSTAMP:20260425T203949
CREATED:20250930T110958Z
LAST-MODIFIED:20250930T110959Z
UID:116732-1759536000-1759622399@radioaguilar.com
SUMMARY:Teatro
DESCRIPTION:La compañía La Bestia Teatro presenta la obra Los Amantes Sobrehumanos dentro de la programación de AESCENA 2025. \n\n\n\nFecha: sábado 4 de octubre \n\n\n\nHora: 20.30 h \n\n\n\n Lugar: Espacio Cultural Cine Amor \n\n\n\nLocalidad: Aguilar de Campoo \n\n\n\nEntrada: 3 €
URL:https://radioaguilar.com/evento/teatro-3/
CATEGORIES:Cultura
ATTACH;FMTTYPE=image/jpeg:https://radioaguilar.com/contenido/La-Bestia-Teatro.jpeg
END:VEVENT
BEGIN:VEVENT
DTSTART;TZID=Europe/Madrid:20251004T080000
DTEND;TZID=Europe/Madrid:20251012T170000
DTSTAMP:20260425T203949
CREATED:20251002T095221Z
LAST-MODIFIED:20251002T095222Z
UID:116816-1759564800-1760288400@radioaguilar.com
SUMMARY:19 AESCENA 2025
DESCRIPTION:Festival de Artes Escénicas \n\n\n\nLugar: Cine Amor de Aguilar de Campoo \n\n\n\nFecha: del 4 al 12 de octubre
URL:https://radioaguilar.com/evento/19-aescena-2025/
CATEGORIES:Cultura
ATTACH;FMTTYPE=image/jpeg:https://radioaguilar.com/contenido/cartel-aescena1-1.jpg
END:VEVENT
BEGIN:VEVENT
DTSTART;TZID=Europe/Madrid:20251009T000000
DTEND;TZID=Europe/Madrid:20251009T235959
DTSTAMP:20260425T203949
CREATED:20251006T113400Z
LAST-MODIFIED:20251007T100731Z
UID:116926-1759968000-1760054399@radioaguilar.com
SUMMARY:Seminario
DESCRIPTION:Seminario `Brañosera\, tierra trashumante: paisaje\, cultura y futuro´ \n\n\n\nFecha: jueves 9 de octubre \n\n\n\nHora: 10.00 h \n\n\n\nLugar: Sala de plenos \n\n\n\nLocalidad: Brañosera \n\n\n\n \n\n\n\nPrograma: \n\n\n\n10:00 | Presentación. D. Jesús Mediavilla Rodríguez – Alcalde de Brañosera / Dña. María Jesús Barbero – Técnica de Fundación Santa María la Real \n\n\n\n10:05 | La trashumancia y su impacto en el paisaje de la Montaña Palentina. D. Jesús Francisco Torres – Presidente y director científico del Instituto Monte Bernorio (IMBEAC) \n\n\n\n10:50 | El papel de las vías pecuarias trashumantes en la biodiversidad. Dra. Violeta Hevia – Doctora en ecología\, Universidad Autónoma de Madrid \n\n\n\n11:35 | Pausa \n\n\n\n12:00 | Patrimonio\, etnografía y folclore de la trashumancia. D. Carlos Porro – Director del Archivo Oral de Palencia \n\n\n\n12:45 | Trashumancia y paisaje en la era digital. Dña. Rocío Gallego – Fundación Cesefor \n\n\n\n13:30 | Preguntas y actas visuales
URL:https://radioaguilar.com/evento/seminario/
CATEGORIES:Cultura
ATTACH;FMTTYPE=image/png:https://radioaguilar.com/contenido/seminario-trashumancia-1170x658-1.png
END:VEVENT
BEGIN:VEVENT
DTSTART;TZID=Europe/Madrid:20251014T000000
DTEND;TZID=Europe/Madrid:20251023T235959
DTSTAMP:20260425T203949
CREATED:20251009T124729Z
LAST-MODIFIED:20251013T214931Z
UID:117047-1760400000-1761263999@radioaguilar.com
SUMMARY:Día de las Mujeres Escritoras
DESCRIPTION:Día de las Mujeres Escritoras. \n\n\n\nFecha: del 14 al 23 de octubre \n\n\n\nLocalidad: Aguilar de Campoo
URL:https://radioaguilar.com/evento/dia-de-las-mujeres-escritoras/
CATEGORIES:Cultura
ATTACH;FMTTYPE=image/png:https://radioaguilar.com/contenido/Dia-escritoras.png
END:VEVENT
BEGIN:VEVENT
DTSTART;TZID=Europe/Madrid:20251018T000000
DTEND;TZID=Europe/Madrid:20251018T235959
DTSTAMP:20260425T203949
CREATED:20250915T115108Z
LAST-MODIFIED:20250915T115109Z
UID:116248-1760745600-1760831999@radioaguilar.com
SUMMARY:Charla
DESCRIPTION:Charlas caminadas: Defensa\, paisaje y vida. \n\n\n\nFecha: sábado 18 de octubre \n\n\n\nHora: 11.00 h \n\n\n\nLocalidad: Aguilar de Campoo
URL:https://radioaguilar.com/evento/charla-5/
CATEGORIES:Cultura
END:VEVENT
BEGIN:VEVENT
DTSTART;TZID=Europe/Madrid:20251023T193000
DTEND;TZID=Europe/Madrid:20251023T213000
DTSTAMP:20260425T203949
CREATED:20251016T121654Z
LAST-MODIFIED:20251016T121655Z
UID:117179-1761247800-1761255000@radioaguilar.com
SUMMARY:Presentación del libro 'El tesoro del convento caído' de José María Pérez 'Peridis'
DESCRIPTION:Fecha: jueves\, 23 de octubre \n\n\n\nHora: 19.00 h. \n\n\n\nLugar: Cine Amor de Aguilar de Campoo
URL:https://radioaguilar.com/evento/presentacion-del-libro-el-tesoro-del-convento-caido-de-jose-maria-perez-peridis/
CATEGORIES:Cultura
ATTACH;FMTTYPE=image/jpeg:https://radioaguilar.com/contenido/Libro-3.jpg
END:VEVENT
BEGIN:VEVENT
DTSTART;TZID=Europe/Madrid:20251024T000000
DTEND;TZID=Europe/Madrid:20251024T235959
DTSTAMP:20260425T203949
CREATED:20251017T113106Z
LAST-MODIFIED:20251017T113107Z
UID:117222-1761264000-1761350399@radioaguilar.com
SUMMARY:Presentación de la revista Valdeolea
DESCRIPTION:Presentación de la revista Valdeolea. \n\n\n\nFecha: viernes 24 de octubre \n\n\n\nHora: 19.00 h \n\n\n\nLugar: Biblioteca Municipal \n\n\n\nLocalidad: Aguilar de Campoo
URL:https://radioaguilar.com/evento/presentacion-de-la-revista-valdeolea/
CATEGORIES:Cultura
ATTACH;FMTTYPE=image/jpeg:https://radioaguilar.com/contenido/Valdeolea.jpeg
END:VEVENT
BEGIN:VEVENT
DTSTART;TZID=Europe/Madrid:20251024T180000
DTEND;TZID=Europe/Madrid:20251024T210000
DTSTAMP:20260425T203949
CREATED:20251020T094447Z
LAST-MODIFIED:20251020T094448Z
UID:117246-1761328800-1761339600@radioaguilar.com
SUMMARY:Día Internacional de las Bibliotecas
DESCRIPTION:Con motivo del Día Internacional de las Bibliotecas la Biblioteca de Aguilar acoge dos sesiones de cuentos\, una para público familiar y otra para adulto. \n\n\n\nFecha: viernes\, 24 de octubre
URL:https://radioaguilar.com/evento/dia-internacional-de-las-bibliotecas/
CATEGORIES:Cultura
ATTACH;FMTTYPE=image/jpeg:https://radioaguilar.com/contenido/Dia-de-las-Bibliotecas.jpg
END:VEVENT
BEGIN:VEVENT
DTSTART;TZID=Europe/Madrid:20251025T000000
DTEND;TZID=Europe/Madrid:20251025T235959
DTSTAMP:20260425T203949
CREATED:20251009T092159Z
LAST-MODIFIED:20251009T092201Z
UID:117028-1761350400-1761436799@radioaguilar.com
SUMMARY:Charlas caminadas
DESCRIPTION:Charla caminada: `Defensa\, paisaje y vida. La huella del agua en Aguilar de Campoo´ \n\n\n\nFecha: sábado 25 de octubre \n\n\n\nHora: de 11.00 h a 13.00 h
URL:https://radioaguilar.com/evento/charlas-caminadas-2/
CATEGORIES:Cultura
ATTACH;FMTTYPE=image/jpeg:https://radioaguilar.com/contenido/Charlas-caminadas-1.jpeg
END:VEVENT
BEGIN:VEVENT
DTSTART;TZID=Europe/Madrid:20251025T000000
DTEND;TZID=Europe/Madrid:20251025T235959
DTSTAMP:20260425T203949
CREATED:20251022T114528Z
LAST-MODIFIED:20251022T114531Z
UID:117364-1761350400-1761436799@radioaguilar.com
SUMMARY:Cine
DESCRIPTION:Proyección de la pelicular Un Amor\, de Isabel Coixet. \n\n\n\nFecha: sábado 25 de octubre \n\n\n\nHora: 19.00 h \n\n\n\nLugar: Casa del Pueblo \n\n\n\nLocalidad: Vallejo de Orbó
URL:https://radioaguilar.com/evento/cine/
CATEGORIES:Cultura
ATTACH;FMTTYPE=image/jpeg:https://radioaguilar.com/contenido/CARTEL-CINE-VALLEJO-2_page-0001.jpg
END:VEVENT
BEGIN:VEVENT
DTSTART;TZID=Europe/Madrid:20251025T000000
DTEND;TZID=Europe/Madrid:20251025T235959
DTSTAMP:20260425T203949
CREATED:20251022T121754Z
LAST-MODIFIED:20251022T122116Z
UID:117380-1761350400-1761436799@radioaguilar.com
SUMMARY:Concierto
DESCRIPTION:Concierto con la actuación de RapuAsecas. \n\n\n\nFecha: sábado 25 de octubre \n\n\n\nHora: 20.00 h \n\n\n\nLugar: Bar La Cabaña \n\n\n\nLocalidad: Aguilar de Campoo \n\n\n\nEntrada gratuita
URL:https://radioaguilar.com/evento/concierto-36/
CATEGORIES:Cultura
ATTACH;FMTTYPE=image/jpeg:https://radioaguilar.com/contenido/RAPU-2.jpg
END:VEVENT
BEGIN:VEVENT
DTSTART;TZID=Europe/Madrid:20251028T000000
DTEND;TZID=Europe/Madrid:20251028T235959
DTSTAMP:20260425T203949
CREATED:20251020T113553Z
LAST-MODIFIED:20251020T113554Z
UID:117277-1761609600-1761695999@radioaguilar.com
SUMMARY:Semana de la Biblioteca
DESCRIPTION:Semana de la Biblioteca en Cervera de Pisuerga \n\n\n\n\n\nFecha: del 20 al 28 de octubre \n\n\n\nLugar: Biblioteca Mucicipal \n\n\n\nLocalidad: Cervera de Pisuerga
URL:https://radioaguilar.com/evento/semana-de-la-biblioteca/
CATEGORIES:Cultura
ATTACH;FMTTYPE=image/jpeg:https://radioaguilar.com/contenido/Cultura-1.jpg
END:VEVENT
BEGIN:VEVENT
DTSTART;TZID=Europe/Madrid:20251031T000000
DTEND;TZID=Europe/Madrid:20251031T235959
DTSTAMP:20260425T203949
CREATED:20250905T101753Z
LAST-MODIFIED:20250905T101817Z
UID:115941-1761868800-1761955199@radioaguilar.com
SUMMARY:Exposición
DESCRIPTION:Exposición colectiva de obras `Talento Thieldón´ \n\n\n\nFecha: hasta el 31 de octubre \n\n\n\nLugar: Clínica Aguilar \n\n\n\nLocalidad: Aguilar de Campoo
URL:https://radioaguilar.com/evento/exposicion-25/
CATEGORIES:Cultura
ATTACH;FMTTYPE=image/jpeg:https://radioaguilar.com/contenido/Expo.jpeg
END:VEVENT
BEGIN:VEVENT
DTSTART;TZID=Europe/Madrid:20251031T000000
DTEND;TZID=Europe/Madrid:20251031T235959
DTSTAMP:20260425T203949
CREATED:20250922T115322Z
LAST-MODIFIED:20250922T115324Z
UID:116478-1761868800-1761955199@radioaguilar.com
SUMMARY:Exposición
DESCRIPTION:Exposición `Rangi´ con obras del artista Pipo. \n\n\n\nFecha: hasta el 31 de octubre \n\n\n\nLugar: Casa del Parque \n\n\n\nLocalidad: Cervera de Pisuerga
URL:https://radioaguilar.com/evento/exposicion-26/
CATEGORIES:Cultura
ATTACH;FMTTYPE=image/jpeg:https://radioaguilar.com/contenido/Expo-Pipo.jpeg
END:VEVENT
BEGIN:VEVENT
DTSTART;TZID=Europe/Madrid:20251031T000000
DTEND;TZID=Europe/Madrid:20251031T235959
DTSTAMP:20260425T203949
CREATED:20250929T102023Z
LAST-MODIFIED:20250929T102024Z
UID:116693-1761868800-1761955199@radioaguilar.com
SUMMARY:Curso
DESCRIPTION:Curso de escritura creativa impartido por Ruth Gutiérrez. \n\n\n\nFecha: de octubre a mayo \n\n\n\nLocalidad: Aguilar de Campoo
URL:https://radioaguilar.com/evento/curso-3/
CATEGORIES:Cultura
ATTACH;FMTTYPE=image/jpeg:https://radioaguilar.com/contenido/Taller-2.jpeg
END:VEVENT
BEGIN:VEVENT
DTSTART;TZID=Europe/Madrid:20251031T000000
DTEND;TZID=Europe/Madrid:20251031T235959
DTSTAMP:20260425T203949
CREATED:20251016T115158Z
LAST-MODIFIED:20251016T115341Z
UID:117181-1761868800-1761955199@radioaguilar.com
SUMMARY:Art on the Road
DESCRIPTION:Art on the Road 2025″ es una exposición itinerante de las mejores obras del Certamen Arte Joven de Castilla y León\, que incluye pinturas\, fotografías\, esculturas y otras artes plásticas. \n\n\n\nDespués de que la Consejería de Familia e Igualdad de Oportunidades celebrara la gala de entrega de premios del XXXVI Certamen de ‘Arte Joven’\, iniciativa organizada por el Instituto de la Juventud de Castilla y León para reconocer el talento de los jóvenes creadores de la Comunidad. Se crea la exposición itinerante ‘Art on the Road’\, en la que se muestran las obras finalistas en las categorías de pintura\, otras modalidades de artes plásticas y visuales\, diseño de moda y joyería / bisutería. Un total de 36 creaciones van a recorrer\, como cada año\, distintos puntos del territorio\, tanto del medio rural como urbano. \n\n\n\nEn su compromiso con la promoción de los jóvenes artistas de la Comunidad\, la Junta de Castilla y León realiza una acción fundamental dentro del programa ‘Arte Joven’\, con el objetivo de dar visibilidad al talento castellano y leonés. En los espacios expositivos estará disponible el ‘Catálogo de Arte Joven’\, de los cuales el Instituto de la Juventud autonómico ha impreso unos 700 ejemplares con las obras premiadas y finalistas. \n\n\n\nLa muestra ya ha pasado por Medina del Campo\, Astorga\, Pradoluengo y en El Burgo de Osma para recalar ahora en la villa de Aguilar de Campoo\, concretamente en la Sala de Exposiciones de la Biblioteca Pública Municipal «Bernardo del Carpio»\, donde podrá contemplarse entre los días 15 y 31 de octubre en horario de lunes a viernes de 10 a 14 y de 16 a 20:30 horas.
URL:https://radioaguilar.com/evento/art-on-the-road/
CATEGORIES:Cultura
ATTACH;FMTTYPE=image/jpeg:https://radioaguilar.com/contenido/Art-On-The-Road.jpg
END:VEVENT
BEGIN:VEVENT
DTSTART;TZID=Europe/Madrid:20251031T000000
DTEND;TZID=Europe/Madrid:20251031T235959
DTSTAMP:20260425T203949
CREATED:20251021T100349Z
LAST-MODIFIED:20251029T113030Z
UID:117298-1761868800-1761955199@radioaguilar.com
SUMMARY:Halloween en la Biblioteca de Aguilar
DESCRIPTION:Fecha: del 27 al 31 de octubre \n\n\n\nLugar: Biblioteca de Aguilar de Campoo
URL:https://radioaguilar.com/evento/halloween-en-la-biblioteca-de-aguilar-2/
CATEGORIES:Cultura,Fiestas
ATTACH;FMTTYPE=image/jpeg:https://radioaguilar.com/contenido/Haloween.jpg
END:VEVENT
END:VCALENDAR