BEGIN:VCALENDAR
VERSION:2.0
PRODID:-//Radio Aguilar FM - ECPv6.15.20//NONSGML v1.0//EN
CALSCALE:GREGORIAN
METHOD:PUBLISH
X-ORIGINAL-URL:https://radioaguilar.com
X-WR-CALDESC:Eventos para Radio Aguilar FM
REFRESH-INTERVAL;VALUE=DURATION:PT1H
X-Robots-Tag:noindex
X-PUBLISHED-TTL:PT1H
BEGIN:VTIMEZONE
TZID:Europe/Madrid
BEGIN:DAYLIGHT
TZOFFSETFROM:+0100
TZOFFSETTO:+0200
TZNAME:CEST
DTSTART:20240331T010000
END:DAYLIGHT
BEGIN:STANDARD
TZOFFSETFROM:+0200
TZOFFSETTO:+0100
TZNAME:CET
DTSTART:20241027T010000
END:STANDARD
BEGIN:DAYLIGHT
TZOFFSETFROM:+0100
TZOFFSETTO:+0200
TZNAME:CEST
DTSTART:20250330T010000
END:DAYLIGHT
BEGIN:STANDARD
TZOFFSETFROM:+0200
TZOFFSETTO:+0100
TZNAME:CET
DTSTART:20251026T010000
END:STANDARD
BEGIN:DAYLIGHT
TZOFFSETFROM:+0100
TZOFFSETTO:+0200
TZNAME:CEST
DTSTART:20260329T010000
END:DAYLIGHT
BEGIN:STANDARD
TZOFFSETFROM:+0200
TZOFFSETTO:+0100
TZNAME:CET
DTSTART:20261025T010000
END:STANDARD
END:VTIMEZONE
BEGIN:VEVENT
DTSTART;TZID=Europe/Madrid:20251101T000000
DTEND;TZID=Europe/Madrid:20251101T235959
DTSTAMP:20260425T191340
CREATED:20251022T120023Z
LAST-MODIFIED:20251022T120025Z
UID:117372-1761955200-1762041599@radioaguilar.com
SUMMARY:Concierto
DESCRIPTION:Esferafest: conciertos con las actuaciones de Ilene\, Machines y Ajo de Antojil \n\n\n\nFecha: sábado 1 de noviembre \n\n\n\nHora: 20.00 h \n\n\n\nLugar: Piano Bar – Hotel Valentín \n\n\n\nLocalidad: Aguilar de Campoo \n\n\n\nEntrada: 10 € taquilla
URL:https://radioaguilar.com/evento/concierto-34/
CATEGORIES:Cultura
ATTACH;FMTTYPE=image/jpeg:https://radioaguilar.com/contenido/ESFERA-1.jpg
END:VEVENT
BEGIN:VEVENT
DTSTART;TZID=Europe/Madrid:20251101T200000
DTEND;TZID=Europe/Madrid:20251101T210000
DTSTAMP:20260425T191340
CREATED:20251020T102158Z
LAST-MODIFIED:20251020T102159Z
UID:117253-1762027200-1762030800@radioaguilar.com
SUMMARY:Jazz Palencia. Quique Gómez & His Vipers en Aguilar de Campoo
DESCRIPTION:Fecha: sábado\, 1 de noviembre \n\n\n\nHora: 20.00 h. \n\n\n\nLugar: Espacio Cultural Cine Amor
URL:https://radioaguilar.com/evento/jazz-palencia-quique-gomez-his-vipers-en-aguilar-de-campoo/
CATEGORIES:Cultura
ATTACH;FMTTYPE=image/jpeg:https://radioaguilar.com/contenido/Jazz-palencia.jpeg
END:VEVENT
BEGIN:VEVENT
DTSTART;TZID=Europe/Madrid:20251107T203000
DTEND;TZID=Europe/Madrid:20251107T220000
DTSTAMP:20260425T191340
CREATED:20251026T183313Z
LAST-MODIFIED:20251026T183314Z
UID:117493-1762547400-1762552800@radioaguilar.com
SUMMARY:Tributo Joaquín Sabina con 'Física y química'
DESCRIPTION:Fecha: viernes 7 de noviembre \n\n\n\nHora: 20.30 h. \n\n\n\nLugar: Cine Amor de Aguilar de Campoo
URL:https://radioaguilar.com/evento/tributo-joaquin-sabina-con-fisica-y-quimica/
CATEGORIES:Cultura
ATTACH;FMTTYPE=image/jpeg:https://radioaguilar.com/contenido/WhatsApp-Image-2025-10-26-at-13.29.50.jpeg
END:VEVENT
BEGIN:VEVENT
DTSTART;TZID=Europe/Madrid:20251108T000000
DTEND;TZID=Europe/Madrid:20251108T235959
DTSTAMP:20260425T191340
CREATED:20251028T124335Z
LAST-MODIFIED:20251028T124336Z
UID:117578-1762560000-1762646399@radioaguilar.com
SUMMARY:Taller de pandereta
DESCRIPTION:Taller de pandereta. \n\n\n\nHorario: lunes de 17.15 h a 18.30 h \n\n\n\nLugar: Centro de Educación de Adultos Pisuerga \n\n\n\nLocalidad: Aguilar de Campoo \n\n\n\nInformación e inscripciones: 636 90 85 00
URL:https://radioaguilar.com/evento/taller-de-pandereta/
CATEGORIES:Cultura
ATTACH;FMTTYPE=image/jpeg:https://radioaguilar.com/contenido/PANDERETA.jpeg
END:VEVENT
BEGIN:VEVENT
DTSTART;TZID=Europe/Madrid:20251109T000000
DTEND;TZID=Europe/Madrid:20251109T235959
DTSTAMP:20260425T191340
CREATED:20251023T121459Z
LAST-MODIFIED:20251023T121500Z
UID:117415-1762646400-1762732799@radioaguilar.com
SUMMARY:Excursión
DESCRIPTION:Excursión a Zamora para visitar la exposición Las Edades del Hombre. \n\n\n\nFecha: domingo 9 de noviembre
URL:https://radioaguilar.com/evento/excursion-2/
CATEGORIES:Cultura
END:VEVENT
BEGIN:VEVENT
DTSTART;TZID=Europe/Madrid:20251110T000000
DTEND;TZID=Europe/Madrid:20251110T235959
DTSTAMP:20260425T191340
CREATED:20250616T115532Z
LAST-MODIFIED:20250616T115534Z
UID:113403-1762732800-1762819199@radioaguilar.com
SUMMARY:Exposición
DESCRIPTION:Exposición de pintura con obras del artísta `Locu´. \n\n\n\nFecha: Hasta el 10 de noviembre \n\n\n\nLugar: Bar Ultramar \n\n\n\nLocalidad: Aguilar de Campoo
URL:https://radioaguilar.com/evento/exposicion-21/
CATEGORIES:Cultura
ATTACH;FMTTYPE=image/jpeg:https://radioaguilar.com/contenido/Ultramar-expo-Locu-2025-scaled.jpg
END:VEVENT
BEGIN:VEVENT
DTSTART;TZID=Europe/Madrid:20251114T190000
DTEND;TZID=Europe/Madrid:20251114T210000
DTSTAMP:20260425T191340
CREATED:20251110T095624Z
LAST-MODIFIED:20251110T095625Z
UID:117961-1763146800-1763154000@radioaguilar.com
SUMMARY:Presentación libro 'Cantábrica. La gran epopeya del solar cántabro'
DESCRIPTION:Fecha: viernes\, 14 de noviembre \n\n\n\nHora: 19.00 h. \n\n\n\nLugar: Biblioteca Aguilar de Campoo
URL:https://radioaguilar.com/evento/presentacion-libro-cantabrica-la-gran-epopeya-del-solar-cantabro/
CATEGORIES:Cultura
ATTACH;FMTTYPE=image/jpeg:https://radioaguilar.com/contenido/Cartel-para-Aguilar.jpg
END:VEVENT
BEGIN:VEVENT
DTSTART;TZID=Europe/Madrid:20251115T000000
DTEND;TZID=Europe/Madrid:20251115T235959
DTSTAMP:20260425T191340
CREATED:20251106T124653Z
LAST-MODIFIED:20251106T124654Z
UID:117861-1763164800-1763251199@radioaguilar.com
SUMMARY:Concierto
DESCRIPTION:Esferafest: conciertos con las actuaciones de BesarK\, Ezinezkoa y Rapu \n\n\n\nFecha: sábado 15 de noviembre \n\n\n\nHora: 20.00 h \n\n\n\nLugar: Piano Bar – Hotel Valentín \n\n\n\nLocalidad: Aguilar de Campoo \n\n\n\nEntrada: 10 € taquilla
URL:https://radioaguilar.com/evento/concierto-37/
CATEGORIES:Cultura
ATTACH;FMTTYPE=image/jpeg:https://radioaguilar.com/contenido/ESFERAFEST2.jpg
END:VEVENT
BEGIN:VEVENT
DTSTART;TZID=Europe/Madrid:20251115T000000
DTEND;TZID=Europe/Madrid:20251115T235959
DTSTAMP:20260425T191340
CREATED:20251110T132449Z
LAST-MODIFIED:20251110T132450Z
UID:117991-1763164800-1763251199@radioaguilar.com
SUMMARY:Teatro
DESCRIPTION:Representación de la obra de teatro Los amantes sobrehumanos a cargo de la compañía La bestia Teatro. \n\n\n\nFecha: sábado 15 de noviembre \n\n\n\nHora: 19.00 h \n\n\n\nLugar: Edificio de usos múltiples \n\n\n\nLocalidad: Alar del Rey \n\n\n\nEntrada: 3 €
URL:https://radioaguilar.com/evento/teatro-4/
CATEGORIES:Cultura
ATTACH;FMTTYPE=image/jpeg:https://radioaguilar.com/contenido/La-Bestia-Teatro-1.jpeg
END:VEVENT
BEGIN:VEVENT
DTSTART;TZID=Europe/Madrid:20251116T000000
DTEND;TZID=Europe/Madrid:20251116T235959
DTSTAMP:20260425T191340
CREATED:20251112T125245Z
LAST-MODIFIED:20251112T125245Z
UID:118068-1763251200-1763337599@radioaguilar.com
SUMMARY:II Juntada Folklore de Hogaño
DESCRIPTION:II Juntada Folklore de Hogaño. \n\n\n\nFecha: 15 y 16 de noviembre \n\n\n\nLocalidad: Cervera de Pisuerga
URL:https://radioaguilar.com/evento/ii-juntada-folklore-de-hogano/
CATEGORIES:Cultura
ATTACH;FMTTYPE=image/jpeg:https://radioaguilar.com/contenido/Folcklore-1.jpeg
END:VEVENT
BEGIN:VEVENT
DTSTART;TZID=Europe/Madrid:20251120T000000
DTEND;TZID=Europe/Madrid:20251120T235959
DTSTAMP:20260425T191340
CREATED:20251118T130230Z
LAST-MODIFIED:20251118T130232Z
UID:118227-1763596800-1763683199@radioaguilar.com
SUMMARY:Proyección
DESCRIPTION:Proyección del documental `Un viaje hacia nosotros´ \n\n\n\nFecha: jueves 20 de noviembre \n\n\n\nHora: 19.00 h \n\n\n\nLugar: Hogar de la 3ª edad \n\n\n\nLocalidad: Aguilar de Campoo \n\n\n\nEntrada gratuita hasta completar aforo
URL:https://radioaguilar.com/evento/proyeccion/
CATEGORIES:Cultura
ATTACH;FMTTYPE=image/jpeg:https://radioaguilar.com/contenido/ed805cec-eaf3-4fa6-985d-1b762c529d17.jpeg
END:VEVENT
BEGIN:VEVENT
DTSTART;TZID=Europe/Madrid:20251121T183000
DTEND;TZID=Europe/Madrid:20251121T193000
DTSTAMP:20260425T191340
CREATED:20251116T234018Z
LAST-MODIFIED:20251116T234019Z
UID:118181-1763749800-1763753400@radioaguilar.com
SUMMARY:Sesión de cuentacuentos en la Biblioteca de Aguilar
DESCRIPTION:Fecha: viernes\, 21 de noviembre \n\n\n\nHora: 18.30 h. \n\n\n\nLugar: Biblioteca Pública Municipal Bernardo del Carpio
URL:https://radioaguilar.com/evento/sesion-de-cuentacuentos-en-la-biblioteca-de-aguilar/
CATEGORIES:Cultura
ATTACH;FMTTYPE=image/jpeg:https://radioaguilar.com/contenido/Cuentos.jpeg
END:VEVENT
BEGIN:VEVENT
DTSTART;TZID=Europe/Madrid:20251130T000000
DTEND;TZID=Europe/Madrid:20251130T235959
DTSTAMP:20260425T191340
CREATED:20251110T104405Z
LAST-MODIFIED:20251110T104406Z
UID:117965-1764460800-1764547199@radioaguilar.com
SUMMARY:Calendario de adviento
DESCRIPTION:Durante todo el mes de noviembre\, cada vez que utilices el servicio de préstamo\, entrarás en el sorteo diario (por categorías) de un libro sorpresa. \n\n\n\nLugar: Biblioteca de Aguilar de Campoo
URL:https://radioaguilar.com/evento/calendario-de-adviento/
CATEGORIES:Cultura
ATTACH;FMTTYPE=image/jpeg:https://radioaguilar.com/contenido/Calendario-de-adviento.jpeg
END:VEVENT
BEGIN:VEVENT
DTSTART;TZID=Europe/Madrid:20251130T080000
DTEND;TZID=Europe/Madrid:20251130T170000
DTSTAMP:20260425T191340
CREATED:20251104T112454Z
LAST-MODIFIED:20251125T174226Z
UID:117759-1764489600-1764522000@radioaguilar.com
SUMMARY:Concurso de Pintura sobre Cuadros Eléctricos
DESCRIPTION:El Ayuntamiento de Aguilar de Campoo convoca el Primer Concurso de Pintura sobre Cuadros Eléctricos con el objetivo de dinamizar y embellecer el entorno urbano de la villa a través del arte. \n\n\n\nLa intervención artística consistirá en la pintura de 10 cuadros eléctricos situados en distintos puntos de la localidad \n\n\n\nLos temas serán ‘El románico norte palentino’ y ‘La industria galletera aguilarense’ siendo libre el estilo y la técnica empleados. \n\n\n\nLos/as interesados/as deberán enviar su candidatura por correo electrónico . \n\n\n\nEl plazo de recepción de las obras propuestas será del 4 al 30 de noviembre de 2025. \n\n\n\nEl plazo de resolución y ejecución de las obras premiadas se realizará antes del 31 de diciembre de 2025 .  \n\n\n\nEl pago del premio se realizará una vez ejecutada la obra seleccionada. \n\n\n\nCada uno/a de los/as 10 artistas seleccionados/as recibirán un premio de 300 euros en concepto de reconocimiento por su participación y realización de la obra. \n\n\n\nBASES DEL PRIMER CONCURSO DE PINTURA SOBRE CUADROS ELÉCTRICOS AGUILAR DE CAMPOO 4 noviembre 2025Descarga
URL:https://radioaguilar.com/evento/concurso-de-pintura-sobre-cuadros-electricos/
CATEGORIES:Cultura
ATTACH;FMTTYPE=image/jpeg:https://radioaguilar.com/contenido/Concurso-1.jpeg
END:VEVENT
END:VCALENDAR