BEGIN:VCALENDAR
VERSION:2.0
PRODID:-//Radio Aguilar FM - ECPv6.15.20//NONSGML v1.0//EN
CALSCALE:GREGORIAN
METHOD:PUBLISH
X-ORIGINAL-URL:https://radioaguilar.com
X-WR-CALDESC:Eventos para Radio Aguilar FM
REFRESH-INTERVAL;VALUE=DURATION:PT1H
X-Robots-Tag:noindex
X-PUBLISHED-TTL:PT1H
BEGIN:VTIMEZONE
TZID:Europe/Madrid
BEGIN:DAYLIGHT
TZOFFSETFROM:+0100
TZOFFSETTO:+0200
TZNAME:CEST
DTSTART:20250330T010000
END:DAYLIGHT
BEGIN:STANDARD
TZOFFSETFROM:+0200
TZOFFSETTO:+0100
TZNAME:CET
DTSTART:20251026T010000
END:STANDARD
BEGIN:DAYLIGHT
TZOFFSETFROM:+0100
TZOFFSETTO:+0200
TZNAME:CEST
DTSTART:20260329T010000
END:DAYLIGHT
BEGIN:STANDARD
TZOFFSETFROM:+0200
TZOFFSETTO:+0100
TZNAME:CET
DTSTART:20261025T010000
END:STANDARD
BEGIN:DAYLIGHT
TZOFFSETFROM:+0100
TZOFFSETTO:+0200
TZNAME:CEST
DTSTART:20270328T010000
END:DAYLIGHT
BEGIN:STANDARD
TZOFFSETFROM:+0200
TZOFFSETTO:+0100
TZNAME:CET
DTSTART:20271031T010000
END:STANDARD
END:VTIMEZONE
BEGIN:VEVENT
DTSTART;TZID=Europe/Madrid:20260206T190000
DTEND;TZID=Europe/Madrid:20260206T193000
DTSTAMP:20260425T142132
CREATED:20260127T130822Z
LAST-MODIFIED:20260127T131459Z
UID:120176-1770404400-1770406200@radioaguilar.com
SUMMARY:Conferencia
DESCRIPTION:Conferencia `Ellas y los libros´\, a cargo de Daniel Blanco\, sobre la relación de la mujer con la lectura. \n\n\n\nFecha: viernes 6 de febrero \n\n\n\nHora: 19.00 h \n\n\n\nLugar: Biblioteca Municipal \n\n\n\nLocalidad: Aguilar de Campoo \n\n\n\nEntrada gratuita
URL:https://radioaguilar.com/evento/conferencia-2/
CATEGORIES:Cultura
ATTACH;FMTTYPE=image/jpeg:https://radioaguilar.com/contenido/Charla-libros.jpeg
END:VEVENT
BEGIN:VEVENT
DTSTART;TZID=Europe/Madrid:20260212T080000
DTEND;TZID=Europe/Madrid:20260212T170000
DTSTAMP:20260425T142132
CREATED:20260112T132217Z
LAST-MODIFIED:20260128T105613Z
UID:119721-1770883200-1770915600@radioaguilar.com
SUMMARY:Ciclo de charlas sobre Arte Contemporáneo
DESCRIPTION:Recorrido por la Historia del Arte desde la Revolución Industrial hasta la actualidad\, con Tais Roldán Simal. \n\n\n\nFecha: jueves de enero y febrero \n\n\n\nHora: de 17:00 a 18:30 h \n\n\n\nLugar: Biblioteca Municipal de Aguilar de Campoo \n\n\n\nActividad gratuita \n\n\n\nNo es necesaria inscripción previa \n\n\n\nPrograma: \n\n\n\n15 de enero – La pintura tras la Revolución Industrial \n\n\n\n22 de enero – Los nuevos materiales en el arte \n\n\n\n29 de enero – Vanguardias históricas \n\n\n\n5 de febrero – Dos bloques y muchas corrientes \n\n\n\n12 de febrero – El arte ahora \n\n\n\nLa primera charla: ‘La pintura tras la Revolución Industrial’  \n\n\n\nLa aparición de la fotografía\, el impresionismo y el neoimpresionismo marcaron un antes y un después en la historia del arte. Iniciamos el ciclo de charlas sobre Arte Contemporáneo con una sesión imprescindible para comprender el origen del arte moderno.
URL:https://radioaguilar.com/evento/ciclo-de-charlas-sobre-arte-contemporaneo/
CATEGORIES:Cultura
ATTACH;FMTTYPE=image/jpeg:https://radioaguilar.com/contenido/Charlas.jpg
END:VEVENT
BEGIN:VEVENT
DTSTART;TZID=Europe/Madrid:20260219T190000
DTEND;TZID=Europe/Madrid:20260219T193000
DTSTAMP:20260425T142132
CREATED:20260206T113922Z
LAST-MODIFIED:20260206T113924Z
UID:120566-1771527600-1771529400@radioaguilar.com
SUMMARY:Presentación libro 'El carácter peculiar de algunas cosas'
DESCRIPTION:Presentación libro ‘El carácter peculiar de algunas cosas’ de Verónica García-Peña \n\n\n\nFecha: jueves\, 19 de febrero \n\n\n\nHora: 19.00 h. \n\n\n\nLugar: Biblioteca Pública de Aguilar de Campoo
URL:https://radioaguilar.com/evento/presentacion-libro-el-caracter-peculiar-de-algunas-cosas/
CATEGORIES:Cultura
ATTACH;FMTTYPE=image/jpeg:https://radioaguilar.com/contenido/Presentacion.jpg
END:VEVENT
BEGIN:VEVENT
DTSTART;TZID=Europe/Madrid:20260220T180000
DTEND;TZID=Europe/Madrid:20260220T183000
DTSTAMP:20260425T142132
CREATED:20260121T124132Z
LAST-MODIFIED:20260121T124134Z
UID:120001-1771610400-1771612200@radioaguilar.com
SUMMARY:Cuentacuentos para público familiar con Erica González
DESCRIPTION:Cuentacuentos con acompañamiento musical para público familiar\, a partir de 3 años \n\n\n\nFecha: 20 de febrero  \n\n\n\nHora: 18.00h. \n\n\n\nLugar: Biblioteca de Aguilar de Campoo \n\n\n\nEntrada libre
URL:https://radioaguilar.com/evento/cuentacuentos-para-publico-familiar-con-erica-gonzalez/
CATEGORIES:Cultura
ATTACH;FMTTYPE=image/jpeg:https://radioaguilar.com/contenido/Cuentacuentos_1.jpg
END:VEVENT
BEGIN:VEVENT
DTSTART;TZID=Europe/Madrid:20260220T200000
DTEND;TZID=Europe/Madrid:20260220T203000
DTSTAMP:20260425T142132
CREATED:20260127T132207Z
LAST-MODIFIED:20260127T132208Z
UID:120189-1771617600-1771619400@radioaguilar.com
SUMMARY:Sesión de cuentos para público adulto con acompañamiento musical
DESCRIPTION:Fecha: viernes\, 20 de febrero \n\n\n\nHora: 20.00 h. \n\n\n\nA cargo de la actriz y narradora\, Erica González Miguel
URL:https://radioaguilar.com/evento/sesion-de-cuentos-para-publico-adulto-con-acompanamiento-musical/
CATEGORIES:Cultura
ATTACH;FMTTYPE=image/jpeg:https://radioaguilar.com/contenido/Cuentacuentos-1.jpg
END:VEVENT
BEGIN:VEVENT
DTSTART;TZID=Europe/Madrid:20260221T000000
DTEND;TZID=Europe/Madrid:20260221T235959
DTSTAMP:20260425T142132
CREATED:20260219T124333Z
LAST-MODIFIED:20260219T124334Z
UID:121075-1771632000-1771718399@radioaguilar.com
SUMMARY:Carnaval de la Montaña en Cervera de Pisuerga
DESCRIPTION:Fecha: hasta el 21 de febrero \n\n\n\nLugar: Cervera de Pisuerga \n\n\n\nPrograma: ver archivos adjuntos
URL:https://radioaguilar.com/evento/carnaval-de-la-montana-en-cervera-de-pisuerga-2/
CATEGORIES:Cultura,Fiestas
ATTACH;FMTTYPE=image/jpeg:https://radioaguilar.com/contenido/Cervera-25.jpg
END:VEVENT
BEGIN:VEVENT
DTSTART;TZID=Europe/Madrid:20260221T190000
DTEND;TZID=Europe/Madrid:20260221T200000
DTSTAMP:20260425T142132
CREATED:20260113T131235Z
LAST-MODIFIED:20260113T131237Z
UID:119779-1771700400-1771704000@radioaguilar.com
SUMMARY:Actuación de 'Masamadre' en Aguilar de Campoo
DESCRIPTION:Música tradicional de Castilla y León \n\n\n\nFecha: sábado\, 21 de febrero \n\n\n\nHora: 19.00 h. \n\n\n\nLugar: Cine Amor de Aguilar de Campoo \n\n\n\nEntrada gratuita
URL:https://radioaguilar.com/evento/actuacion-de-masamadre-en-aguilar-de-campoo/
CATEGORIES:Cultura
ATTACH;FMTTYPE=image/jpeg:https://radioaguilar.com/contenido/Masa-Madre.jpg
END:VEVENT
BEGIN:VEVENT
DTSTART;TZID=Europe/Madrid:20260222T000000
DTEND;TZID=Europe/Madrid:20260222T235959
DTSTAMP:20260425T142132
CREATED:20260218T114151Z
LAST-MODIFIED:20260218T114153Z
UID:121018-1771718400-1771804799@radioaguilar.com
SUMMARY:Zamarrones y Mascaritos en Aguilar de Campoo
DESCRIPTION:Fecha: domingo\, 22 de febrero \n\n\n\nHora: desde las 12.15 h. \n\n\n\nLugar: Aguilar de Campoo
URL:https://radioaguilar.com/evento/zamarrones-y-mascaritos-en-aguilar-de-campoo/
CATEGORIES:Cultura
ATTACH;FMTTYPE=image/jpeg:https://radioaguilar.com/contenido/Antroido.jpg
END:VEVENT
BEGIN:VEVENT
DTSTART;TZID=Europe/Madrid:20260227T173000
DTEND;TZID=Europe/Madrid:20260227T180000
DTSTAMP:20260425T142132
CREATED:20260203T104604Z
LAST-MODIFIED:20260203T104605Z
UID:120454-1772213400-1772215200@radioaguilar.com
SUMMARY:Cuentos para bebés
DESCRIPTION:Fecha: viernes\, 27 de febrero \n\n\n\nHora: 17.30 h. \n\n\n\nLugar: Biblioteca de Aguilar \n\n\n\nDuración: 30 minutos \n\n\n\nPúblico: bebés de 9 a 36 meses \n\n\n\nImprescindible inscripción previa en la Biblioteca
URL:https://radioaguilar.com/evento/cuentos-para-bebes/
CATEGORIES:Cultura
ATTACH;FMTTYPE=image/jpeg:https://radioaguilar.com/contenido/Cuentos-bebes.jpg
END:VEVENT
BEGIN:VEVENT
DTSTART;TZID=Europe/Madrid:20260227T190000
DTEND;TZID=Europe/Madrid:20260227T200000
DTSTAMP:20260425T142132
CREATED:20260203T103627Z
LAST-MODIFIED:20260203T103629Z
UID:120449-1772218800-1772222400@radioaguilar.com
SUMMARY:Espectáculo de narración oral para público adulto
DESCRIPTION:Légolas\, colectivo escénico presenta: ‘de boca a oreja’ \n\n\n\nFecha: viernes\, 27 de febrero \n\n\n\nHora: 19.00 h. \n\n\n\nLugar: Biblioteca de Aguilar
URL:https://radioaguilar.com/evento/espectaculo-de-narracion-oral-para-publico-adulto/
CATEGORIES:Cultura
ATTACH;FMTTYPE=image/jpeg:https://radioaguilar.com/contenido/Legolas.jpg
END:VEVENT
BEGIN:VEVENT
DTSTART;TZID=Europe/Madrid:20260228T000000
DTEND;TZID=Europe/Madrid:20260228T235959
DTSTAMP:20260425T142132
CREATED:20260212T124537Z
LAST-MODIFIED:20260212T124538Z
UID:120779-1772236800-1772323199@radioaguilar.com
SUMMARY:Esferafest
DESCRIPTION:`Esferafest´\, con las actuaciones de las bandas Kritter\, Oposser\, Sabotaje y Neftis. \n\n\n\nFecha: sábado 28 febrero \n\n\n\nHora: 19.40 h \n\n\n\nLugar: Piano Bar – Hotel Valentín \n\n\n\nLocalidad: Aguilar de Campoo \n\n\n\nEntrada: 10 € taquilla
URL:https://radioaguilar.com/evento/esferafest-3/
CATEGORIES:Cultura
ATTACH;FMTTYPE=image/jpeg:https://radioaguilar.com/contenido/ESFERAFEST-1.jpg
END:VEVENT
BEGIN:VEVENT
DTSTART;TZID=Europe/Madrid:20260228T193000
DTEND;TZID=Europe/Madrid:20260228T200000
DTSTAMP:20260425T142132
CREATED:20260226T105251Z
LAST-MODIFIED:20260226T105253Z
UID:121327-1772307000-1772308800@radioaguilar.com
SUMMARY:Marzas en Reinosa
DESCRIPTION:Fecha: sábado\, 28 de febrero \n\n\n\nHora: 19.30 h. \n\n\n\nLugar: plaza Díez Vicario de Reinosa
URL:https://radioaguilar.com/evento/marzas-en-reinosa/
CATEGORIES:Cultura
ATTACH;FMTTYPE=image/jpeg:https://radioaguilar.com/contenido/CARTEL_LASMARZAS_2026.jpeg
END:VEVENT
BEGIN:VEVENT
DTSTART;TZID=Europe/Madrid:20260228T203000
DTEND;TZID=Europe/Madrid:20260228T210000
DTSTAMP:20260425T142132
CREATED:20260222T172550Z
LAST-MODIFIED:20260222T172552Z
UID:121153-1772310600-1772312400@radioaguilar.com
SUMMARY:Ronda Aguilar interpretará las Marzas
DESCRIPTION:Fecha: sábado\, 28 de febrero \n\n\n\nHora: 20.30 h. \n\n\n\nLugar: plaza de España \n\n\n\nMarcero Mayor: Miguel Ángel Revilla Roiz
URL:https://radioaguilar.com/evento/ronda-aguilar-interpretara-las-marzas/
CATEGORIES:Cultura
ATTACH;FMTTYPE=image/jpeg:https://radioaguilar.com/contenido/Marzas-1.jpg
END:VEVENT
END:VCALENDAR